BEGIN:VCALENDAR
VERSION:2.0
PRODID:-//The Land Celebration | The Lord&#039;s Chapel - ECPv6.15.20//NONSGML v1.0//EN
CALSCALE:GREGORIAN
METHOD:PUBLISH
X-ORIGINAL-URL:https://www.thelandcelebration.org
X-WR-CALDESC:Events for The Land Celebration | The Lord&#039;s Chapel
REFRESH-INTERVAL;VALUE=DURATION:PT1H
X-Robots-Tag:noindex
X-PUBLISHED-TTL:PT1H
BEGIN:VTIMEZONE
TZID:America/New_York
BEGIN:DAYLIGHT
TZOFFSETFROM:-0500
TZOFFSETTO:-0400
TZNAME:EDT
DTSTART:20160313T070000
END:DAYLIGHT
BEGIN:STANDARD
TZOFFSETFROM:-0400
TZOFFSETTO:-0500
TZNAME:EST
DTSTART:20161106T060000
END:STANDARD
BEGIN:DAYLIGHT
TZOFFSETFROM:-0500
TZOFFSETTO:-0400
TZNAME:EDT
DTSTART:20170312T070000
END:DAYLIGHT
BEGIN:STANDARD
TZOFFSETFROM:-0400
TZOFFSETTO:-0500
TZNAME:EST
DTSTART:20171105T060000
END:STANDARD
BEGIN:DAYLIGHT
TZOFFSETFROM:-0500
TZOFFSETTO:-0400
TZNAME:EDT
DTSTART:20180311T070000
END:DAYLIGHT
BEGIN:STANDARD
TZOFFSETFROM:-0400
TZOFFSETTO:-0500
TZNAME:EST
DTSTART:20181104T060000
END:STANDARD
BEGIN:DAYLIGHT
TZOFFSETFROM:-0500
TZOFFSETTO:-0400
TZNAME:EDT
DTSTART:20190310T070000
END:DAYLIGHT
BEGIN:STANDARD
TZOFFSETFROM:-0400
TZOFFSETTO:-0500
TZNAME:EST
DTSTART:20191103T060000
END:STANDARD
END:VTIMEZONE
BEGIN:VEVENT
DTSTART;TZID=America/New_York:20180621T080000
DTEND;TZID=America/New_York:20180624T170000
DTSTAMP:20260421T114357
CREATED:20170901T211217Z
LAST-MODIFIED:20170901T212203Z
UID:10000181-1529568000-1529859600@www.thelandcelebration.org
SUMMARY:Inner Journey Intensive
DESCRIPTION:More and more\, people report that they are lonely\, unfulfilled\, disconnected from their loved ones\, or simply lacking enthusiasm for life.  The Inner Journey Intensive transforms the quality of your life in all domains.  In just 3.5 days\, our highly experiential approach draws on the best of Eastern and Western personal development modalities to cause a dramatic breakthrough in your life.  This breakthrough results in greater freedom: causing enhanced self-confidence\, authentic expression\, living your potential\, and an increased ability to give and receive love. \nhttp://www.innerjourneyinstitute.com/programs/inner-journey-intensive-2/
URL:https://www.thelandcelebration.org/event/inner-journey-intensive/
LOCATION:The Land Celebration\, 411 Three Oaks Drive\, Gore\, VA\, 22637\, United States
CATEGORIES:The Land Celebration
ATTACH;FMTTYPE=image/png:https://www.thelandcelebration.org/wp-content/uploads/2017/09/inner-journey-institute-logo@150dpi.png
GEO:39.298819;-78.365312
X-APPLE-STRUCTURED-LOCATION;VALUE=URI;X-ADDRESS=The Land Celebration 411 Three Oaks Drive Gore VA 22637 United States;X-APPLE-RADIUS=500;X-TITLE=411 Three Oaks Drive:geo:-78.365312,39.298819
END:VEVENT
BEGIN:VEVENT
DTSTART;TZID=America/New_York:20180617T060000
DTEND;TZID=America/New_York:20180617T100000
DTSTAMP:20260421T114357
CREATED:20170501T005243Z
LAST-MODIFIED:20171130T163447Z
UID:10000160-1529215200-1529229600@www.thelandcelebration.org
SUMMARY:Summer Solstice Sweat Lodge Ceremony
DESCRIPTION:
URL:https://www.thelandcelebration.org/event/summer-solstice-sweat-lodge-ceremony-2/
LOCATION:The Land Celebration\, 411 Three Oaks Drive\, Gore\, VA\, 22637\, United States
CATEGORIES:The Land Celebration
GEO:39.298819;-78.365312
X-APPLE-STRUCTURED-LOCATION;VALUE=URI;X-ADDRESS=The Land Celebration 411 Three Oaks Drive Gore VA 22637 United States;X-APPLE-RADIUS=500;X-TITLE=411 Three Oaks Drive:geo:-78.365312,39.298819
END:VEVENT
BEGIN:VEVENT
DTSTART;VALUE=DATE:20180615
DTEND;VALUE=DATE:20180618
DTSTAMP:20260421T114357
CREATED:20171130T164038Z
LAST-MODIFIED:20180309T181636Z
UID:10000185-1529020800-1529279999@www.thelandcelebration.org
SUMMARY:Summer Solstice Gathering of Hearts
DESCRIPTION:Enjoy a great weekend of relaxation in a beautiful setting\, with fun people who have a passion for conscious living and honoring the Earth. Inspiring play-shops\, sweat lodge ceremony\, great food\, sleeping accommodations\, camping\, swimming\, hot tub\, meditation trails and grottoes honoring all spiritual paths. \nWeekend package includes all meals\, accommodations and all programs (drum making workshop excluded) for an affordable $150-250 sliding scale donation. A la carte pricing is also available\, if you are not able to attend the whole weekend. \nClick for details
URL:https://www.thelandcelebration.org/event/summer-solstice-gathering-of-hearts/
LOCATION:The Land Celebration\, 411 Three Oaks Drive\, Gore\, VA\, 22637\, United States
CATEGORIES:The Land Celebration
GEO:39.298819;-78.365312
X-APPLE-STRUCTURED-LOCATION;VALUE=URI;X-ADDRESS=The Land Celebration 411 Three Oaks Drive Gore VA 22637 United States;X-APPLE-RADIUS=500;X-TITLE=411 Three Oaks Drive:geo:-78.365312,39.298819
END:VEVENT
BEGIN:VEVENT
DTSTART;TZID=America/New_York:20180608T180000
DTEND;TZID=America/New_York:20180610T170000
DTSTAMP:20260421T114357
CREATED:20170518T234405Z
LAST-MODIFIED:20170524T171008Z
UID:10000052-1528480800-1528650000@www.thelandcelebration.org
SUMMARY:Peruvian Shamanism Apprenticeship
DESCRIPTION:Speaking With the Voice of Mountains \n\n\nIn this weekend intensive we apprentice the skills leading to mastery in our own unique medicine way. This is the final step in the building of the Monqo Wasi\, “Eternal Inner Temple”. This inner work\, is the path of the Amaru\, or “Serpent”\, symbolizing our connection to the lower world\, our ancestors\, intuition\, and impulses. During the workshop\, we gain insight into the eight fields of consciousness and our real capabilities. This is the power of\, the Qawaq\, or “Visionary”\, the skill to transcend ordinary awareness\, and discern the quality of energy exchanges -using intuition to understand how they contribute to creating the conditions of our life. We will deepen our relationships with our allies: animals\, people\, and personal guides who lend their energy to enhance our ability to see\, speak\, feel\, move and behave authentically. We will learn to use the\, “Sacred Sight”\, and awaken the power of the\, “Oracle”. We will strengthen the Seven Powers culminating in the ultimate act of personal power – the ability to manifest our own reality and healing.
URL:https://www.thelandcelebration.org/event/shamanism-apprenticeship-3/
LOCATION:The Land Celebration\, 411 Three Oaks Drive\, Gore\, VA\, 22637\, United States
CATEGORIES:The Land Celebration
GEO:39.298819;-78.365312
X-APPLE-STRUCTURED-LOCATION;VALUE=URI;X-ADDRESS=The Land Celebration 411 Three Oaks Drive Gore VA 22637 United States;X-APPLE-RADIUS=500;X-TITLE=411 Three Oaks Drive:geo:-78.365312,39.298819
END:VEVENT
BEGIN:VEVENT
DTSTART;TZID=America/New_York:20180525T080000
DTEND;TZID=America/New_York:20180602T170000
DTSTAMP:20260421T114357
CREATED:20170828T185553Z
LAST-MODIFIED:20170828T185553Z
UID:10000159-1527235200-1527958800@www.thelandcelebration.org
SUMMARY:COR
DESCRIPTION:
URL:https://www.thelandcelebration.org/event/cor/
LOCATION:The Land Celebration\, 411 Three Oaks Drive\, Gore\, VA\, 22637\, United States
CATEGORIES:The Land Celebration
GEO:39.298819;-78.365312
X-APPLE-STRUCTURED-LOCATION;VALUE=URI;X-ADDRESS=The Land Celebration 411 Three Oaks Drive Gore VA 22637 United States;X-APPLE-RADIUS=500;X-TITLE=411 Three Oaks Drive:geo:-78.365312,39.298819
END:VEVENT
BEGIN:VEVENT
DTSTART;VALUE=DATE:20180511
DTEND;VALUE=DATE:20180520
DTSTAMP:20260421T114357
CREATED:20170501T005030Z
LAST-MODIFIED:20170828T185327Z
UID:10000158-1525996800-1526774399@www.thelandcelebration.org
SUMMARY:COR
DESCRIPTION:
URL:https://www.thelandcelebration.org/event/celebration-of-being-retreat-3/
LOCATION:The Land Celebration\, 411 Three Oaks Drive\, Gore\, VA\, 22637\, United States
CATEGORIES:Private Event,The Land Celebration
GEO:39.298819;-78.365312
X-APPLE-STRUCTURED-LOCATION;VALUE=URI;X-ADDRESS=The Land Celebration 411 Three Oaks Drive Gore VA 22637 United States;X-APPLE-RADIUS=500;X-TITLE=411 Three Oaks Drive:geo:-78.365312,39.298819
END:VEVENT
BEGIN:VEVENT
DTSTART;TZID=America/New_York:20180406T180000
DTEND;TZID=America/New_York:20180408T170000
DTSTAMP:20260421T114357
CREATED:20170518T234250Z
LAST-MODIFIED:20170520T171952Z
UID:10000067-1523037600-1523206800@www.thelandcelebration.org
SUMMARY:Peruvian Shamanism Apprenticeship
DESCRIPTION:The Art of Personal Power \nThis workshop intensive attends to the real work of spiritual adulthood\, the eradication of fear and fear-based behaviors. Stepping through the shadowy realms of our inner world\, we learn to navigate\, “”The Seven Powers of The Unconscious”. During the weekend we will apprentice the wisdom transmissions of the Chaupi teachings -the traditional bridge between the mystical and magical sides of the path. Through the opening of a series of perceptive eyes on the body\, we learn the arts of the Chunpi Paqo. These arts teach us to work with lifetime and encrusted hucha and a powerful practice of Soul Retrieval Andean style. The Chunpi Paqo is considered a special skill. According to Q’ero stories\, when none of the indigenous healers were able to restore health to a sick person\, the Chunpi Paqo was summoned to perform his energy-belt rituals and the person was healed. Through a series of rites\, we incorporate\, “The Sacred Couple”: a blending of our inner masculine and feminine selves.
URL:https://www.thelandcelebration.org/event/shamanism-apprenticeship-2/
LOCATION:The Land Celebration\, 411 Three Oaks Drive\, Gore\, VA\, 22637\, United States
CATEGORIES:The Land Celebration
GEO:39.298819;-78.365312
X-APPLE-STRUCTURED-LOCATION;VALUE=URI;X-ADDRESS=The Land Celebration 411 Three Oaks Drive Gore VA 22637 United States;X-APPLE-RADIUS=500;X-TITLE=411 Three Oaks Drive:geo:-78.365312,39.298819
END:VEVENT
BEGIN:VEVENT
DTSTART;VALUE=DATE:20180301
DTEND;VALUE=DATE:20180305
DTSTAMP:20260421T114357
CREATED:20170901T160539Z
LAST-MODIFIED:20171108T193842Z
UID:10000180-1519862400-1520207999@www.thelandcelebration.org
SUMMARY:Inner Journey Intensive
DESCRIPTION:More and more\, people report that they are lonely\, unfulfilled\, disconnected from their loved ones\, or simply lacking enthusiasm for life.  The Inner Journey Intensive transforms the quality of your life in all domains.  In just 3.5 days\, our highly experiential approach draws on the best of Eastern and Western personal development modalities to cause a dramatic breakthrough in your life.  This breakthrough results in greater freedom: causing enhanced self-confidence\, authentic expression\, living your potential\, and an increased ability to give and receive love. \nhttp://www.innerjourneyinstitute.com/programs/inner-journey-intensive-2/
URL:https://www.thelandcelebration.org/event/inner-journey/
LOCATION:The Land Celebration\, 411 Three Oaks Drive\, Gore\, VA\, 22637\, United States
CATEGORIES:The Land Celebration
ATTACH;FMTTYPE=image/png:https://www.thelandcelebration.org/wp-content/uploads/2017/09/inner-journey-institute-logo@150dpi.png
GEO:39.298819;-78.365312
X-APPLE-STRUCTURED-LOCATION;VALUE=URI;X-ADDRESS=The Land Celebration 411 Three Oaks Drive Gore VA 22637 United States;X-APPLE-RADIUS=500;X-TITLE=411 Three Oaks Drive:geo:-78.365312,39.298819
END:VEVENT
BEGIN:VEVENT
DTSTART;TZID=America/New_York:20180202T180000
DTEND;TZID=America/New_York:20180204T170000
DTSTAMP:20260421T114357
CREATED:20170518T234112Z
LAST-MODIFIED:20170520T172354Z
UID:10000065-1517594400-1517763600@www.thelandcelebration.org
SUMMARY:Peruvian Shamanism Apprenticeship
DESCRIPTION:Misha & Advanced Healing Arts \nBuilding on the teachings from the previous class\, we will dive deeper into the Shamanic world of spiritual healing. During this weekend\, we apprentice the sacred center of the Katari Altar Maestro. In the center we build the Kintu Misha\, a power-pack that represents our heart’s fire.\nThe Kintu Misha serves as the Axis Mundi\, bridging the three worlds and organizing the flows of spiritual and cosmological energies for our highest good and healing. The mystery teachings of the Kintu Misha facilitates a deepening of connection with nature\, spirit and sacred places- becoming an indispensable tool for the service and healing of others. During our time\, we will learn to connect to our Ch’aska Kuna\, or “Guiding Stars”\, this is one of the most important tasks following the Andean path. Your guiding stars represents your highest potential\, spiritual gifts\, and talents. Through group work\, we will define our personal power\, and learn to express it using Rimay\, “The Power of True Speech”. We will structure our Misha according to personal power\, and close them using an Andean folding method. We will learn the ceremonial uses of the Misha\, and advanced ways to use the mesa in healing.
URL:https://www.thelandcelebration.org/event/shamanism-apprenticeship/
LOCATION:The Land Celebration\, 411 Three Oaks Drive\, Gore\, VA\, 22637\, United States
CATEGORIES:The Land Celebration
GEO:39.298819;-78.365312
X-APPLE-STRUCTURED-LOCATION;VALUE=URI;X-ADDRESS=The Land Celebration 411 Three Oaks Drive Gore VA 22637 United States;X-APPLE-RADIUS=500;X-TITLE=411 Three Oaks Drive:geo:-78.365312,39.298819
END:VEVENT
BEGIN:VEVENT
DTSTART;TZID=America/New_York:20171223T120000
DTEND;TZID=America/New_York:20171223T170000
DTSTAMP:20260421T114357
CREATED:20170501T004814Z
LAST-MODIFIED:20171005T200246Z
UID:10000178-1514030400-1514048400@www.thelandcelebration.org
SUMMARY:Winter Solstice Sweat Lodge Ceremony
DESCRIPTION:Sweat lodge ceremony\, to usher in the season of going within\, will begin at noon. A community potluck will follow the sweat lodge. Please bring a dish to share. $20 donation requested. ALL are welcome here!
URL:https://www.thelandcelebration.org/event/winter-solstice-sweat-lodge-ceremony/
LOCATION:The Land Celebration\, 411 Three Oaks Drive\, Gore\, VA\, 22637\, United States
CATEGORIES:The Land Celebration
GEO:39.298819;-78.365312
X-APPLE-STRUCTURED-LOCATION;VALUE=URI;X-ADDRESS=The Land Celebration 411 Three Oaks Drive Gore VA 22637 United States;X-APPLE-RADIUS=500;X-TITLE=411 Three Oaks Drive:geo:-78.365312,39.298819
END:VEVENT
BEGIN:VEVENT
DTSTART;VALUE=DATE:20171116
DTEND;VALUE=DATE:20171120
DTSTAMP:20260421T114357
CREATED:20170501T004628Z
LAST-MODIFIED:20170501T004628Z
UID:10000053-1510790400-1511135999@www.thelandcelebration.org
SUMMARY:Inner Journey Seminar
DESCRIPTION:The Inner Journey is a 3 1/2 day residential program intended to support you in powerfully and dramatically transforming the quality of your life. Drawn from years of experience and research into a wide range of personal\, philosophical and spiritual transformational practices\, the Inner Journey is a modern-day response to the ancient search for truth and meaning in our lives. This self-exploration can lead to a dramatic transformation in the quality of your life. \n\n\n\n\nDonation: See Website for pricing information http://www.innerjourneydc.org
URL:https://www.thelandcelebration.org/event/inner-journey-seminar-2/
LOCATION:The Land Celebration\, 411 Three Oaks Drive\, Gore\, VA\, 22637\, United States
CATEGORIES:The Land Celebration
GEO:39.298819;-78.365312
X-APPLE-STRUCTURED-LOCATION;VALUE=URI;X-ADDRESS=The Land Celebration 411 Three Oaks Drive Gore VA 22637 United States;X-APPLE-RADIUS=500;X-TITLE=411 Three Oaks Drive:geo:-78.365312,39.298819
END:VEVENT
BEGIN:VEVENT
DTSTART;TZID=America/New_York:20171109T120000
DTEND;TZID=America/New_York:20171112T170000
DTSTAMP:20260421T114357
CREATED:20170622T204253Z
LAST-MODIFIED:20170624T171832Z
UID:10000073-1510228800-1510506000@www.thelandcelebration.org
SUMMARY:This moment\, Nothing else: A Gathering of Poets
DESCRIPTION:The focus of this gathering is to assist you\, as a poet\, deepen your connection with why you write and how connecting with the moment can inspire not only your poetry but your spirituality as well.\nDuring the course of the weekend there will be poetry readings\, a couple of writing workshops\, discussions centered on creativity and inspirational influences\, optional guided meditations and sweat lodge ceremony\, along with plenty of time to write\, connect with other attendees and explore the beautiful 40 acres of The Land Celebration. Each attendee will also receive\, afterwards\, a hand-stitched book of poems that were written during the gathering.\n\nRegistration will begin at 12:00pm on Thursday\, with light dinner to be served at 6:00pm and the opening words to begin at 7:00pm.\n\nAccommodations and  meals be provided through lunch on Sunday.\n\nFor more information or questions please contact:\n\n_________________________\nJohn Berry\njohn.e.berry3@gmail.com\n703-401-1694\n_________________________\n\nMichael Czarnecki\npoetguy@foothillspublishing.com\n607-661-8777
URL:https://www.thelandcelebration.org/event/this-moment-nothing-else-a-gathering-of-poets/
LOCATION:The Land Celebration\, 411 Three Oaks Drive\, Gore\, VA\, 22637\, United States
CATEGORIES:The Land Celebration
ORGANIZER;CN="John Berry":MAILTO: john.e.berry3@gmail.com
GEO:39.298819;-78.365312
X-APPLE-STRUCTURED-LOCATION;VALUE=URI;X-ADDRESS=The Land Celebration 411 Three Oaks Drive Gore VA 22637 United States;X-APPLE-RADIUS=500;X-TITLE=411 Three Oaks Drive:geo:-78.365312,39.298819
END:VEVENT
BEGIN:VEVENT
DTSTART;VALUE=DATE:20171027
DTEND;VALUE=DATE:20171030
DTSTAMP:20260421T114357
CREATED:20170907T192908Z
LAST-MODIFIED:20170907T192908Z
UID:10000054-1509062400-1509321599@www.thelandcelebration.org
SUMMARY:Private Event ~ Invitation Only
DESCRIPTION:
URL:https://www.thelandcelebration.org/event/private-event-invitation-only-3/
LOCATION:The Land Celebration\, 411 Three Oaks Drive\, Gore\, VA\, 22637\, United States
CATEGORIES:Private Event,The Land Celebration
GEO:39.298819;-78.365312
X-APPLE-STRUCTURED-LOCATION;VALUE=URI;X-ADDRESS=The Land Celebration 411 Three Oaks Drive Gore VA 22637 United States;X-APPLE-RADIUS=500;X-TITLE=411 Three Oaks Drive:geo:-78.365312,39.298819
END:VEVENT
BEGIN:VEVENT
DTSTART;VALUE=DATE:20171014
DTEND;VALUE=DATE:20171023
DTSTAMP:20260421T114357
CREATED:20170501T004429Z
LAST-MODIFIED:20170901T214701Z
UID:10000063-1507939200-1508716799@www.thelandcelebration.org
SUMMARY:Journey Into The Heart Of God
DESCRIPTION:  \nEnter a modern day mystic monastery \nThis one of a kind 9-day program was designed to address the need for the sacred in our 21st century.   In our modern day world\, we are constantly barraged by stimulus and chronic busyness.  In the fast-paced lives we lead\, it is almost impossible to connect to the stillness and inner peace at the center of our being. http://www.innerjourneyinstitute.com/programs/journey-into-the-heart-of-god/
URL:https://www.thelandcelebration.org/event/journey-into-the-heart-of-god/
LOCATION:The Land Celebration\, 411 Three Oaks Drive\, Gore\, VA\, 22637\, United States
CATEGORIES:The Land Celebration
ATTACH;FMTTYPE=image/png:https://www.thelandcelebration.org/wp-content/uploads/2017/09/inner-journey-institute-logo@150dpi.png
GEO:39.298819;-78.365312
X-APPLE-STRUCTURED-LOCATION;VALUE=URI;X-ADDRESS=The Land Celebration 411 Three Oaks Drive Gore VA 22637 United States;X-APPLE-RADIUS=500;X-TITLE=411 Three Oaks Drive:geo:-78.365312,39.298819
END:VEVENT
BEGIN:VEVENT
DTSTART;TZID=America/New_York:20170928T180000
DTEND;TZID=America/New_York:20171001T170000
DTSTAMP:20260421T114357
CREATED:20170509T185637Z
LAST-MODIFIED:20170509T185637Z
UID:10000174-1506621600-1506877200@www.thelandcelebration.org
SUMMARY:Peruvian Shamanism Apprenticeship - Module 1
DESCRIPTION:Path of the Hummingbird\nDiscover the necture of the Royal Hummingbird in the Inkan sacred tradition of Q’enti\, “The Hummingbird”\, symbolizes the way of the Nature Mystic\, and the ability to bridge the gap between the sacred and the mundane. This weekend will be an intensive including “A Natural Mystics Guide to Ascension” and “The Great Initiation”.
URL:https://www.thelandcelebration.org/event/peruvian-shamanism-apprenticeship-module-1/
LOCATION:The Land Celebration\, 411 Three Oaks Drive\, Gore\, VA\, 22637\, United States
CATEGORIES:The Land Celebration
ORGANIZER;CN="Lisa Joyes":MAILTO:TLCGoreVA@yahoo.com
GEO:39.298819;-78.365312
X-APPLE-STRUCTURED-LOCATION;VALUE=URI;X-ADDRESS=The Land Celebration 411 Three Oaks Drive Gore VA 22637 United States;X-APPLE-RADIUS=500;X-TITLE=411 Three Oaks Drive:geo:-78.365312,39.298819
END:VEVENT
BEGIN:VEVENT
DTSTART;TZID=America/New_York:20170923T120000
DTEND;TZID=America/New_York:20170923T170000
DTSTAMP:20260421T114357
CREATED:20170501T004317Z
LAST-MODIFIED:20170919T204644Z
UID:10000061-1506168000-1506186000@www.thelandcelebration.org
SUMMARY:Equinox Sweat Lodge Ceremony
DESCRIPTION:Sweat lodge ceremony begins at noon with a community potluck to follow. Please bring a dish to share.
URL:https://www.thelandcelebration.org/event/equinox-sweat-lodge-ceremony/
LOCATION:The Land Celebration\, 411 Three Oaks Drive\, Gore\, VA\, 22637\, United States
CATEGORIES:The Land Celebration
GEO:39.298819;-78.365312
X-APPLE-STRUCTURED-LOCATION;VALUE=URI;X-ADDRESS=The Land Celebration 411 Three Oaks Drive Gore VA 22637 United States;X-APPLE-RADIUS=500;X-TITLE=411 Three Oaks Drive:geo:-78.365312,39.298819
END:VEVENT
BEGIN:VEVENT
DTSTART;TZID=America/New_York:20170913T080000
DTEND;TZID=America/New_York:20170917T170000
DTSTAMP:20260421T114357
CREATED:20170520T213649Z
LAST-MODIFIED:20170520T213649Z
UID:10000163-1505289600-1505667600@www.thelandcelebration.org
SUMMARY:Private Event
DESCRIPTION:
URL:https://www.thelandcelebration.org/event/private-event/
LOCATION:The Land Celebration\, 411 Three Oaks Drive\, Gore\, VA\, 22637\, United States
CATEGORIES:Private Event,The Land Celebration
GEO:39.298819;-78.365312
X-APPLE-STRUCTURED-LOCATION;VALUE=URI;X-ADDRESS=The Land Celebration 411 Three Oaks Drive Gore VA 22637 United States;X-APPLE-RADIUS=500;X-TITLE=411 Three Oaks Drive:geo:-78.365312,39.298819
END:VEVENT
BEGIN:VEVENT
DTSTART;VALUE=DATE:20170622
DTEND;VALUE=DATE:20170626
DTSTAMP:20260421T114357
CREATED:20170411T020320Z
LAST-MODIFIED:20170430T171314Z
UID:10000097-1498089600-1498435199@www.thelandcelebration.org
SUMMARY:Inner Journey Seminar
DESCRIPTION:The Inner Journey is a 3 1/2 day residential program intended to support you in powerfully and dramatically transforming the quality of your life. Drawn from years of experience and research into a wide range of personal\, philosophical and spiritual transformational practices\, the Inner Journey is a modern-day response to the ancient search for truth and meaning in our lives. This self-exploration can lead to a dramatic transformation in the quality of your life. \nSee Website for pricing information: http://www.innerjourneydc.org
URL:https://www.thelandcelebration.org/event/inner-journey-seminar/
LOCATION:The Land Celebration\, 411 Three Oaks Drive\, Gore\, VA\, 22637\, United States
CATEGORIES:The Land Celebration
GEO:39.298819;-78.365312
X-APPLE-STRUCTURED-LOCATION;VALUE=URI;X-ADDRESS=The Land Celebration 411 Three Oaks Drive Gore VA 22637 United States;X-APPLE-RADIUS=500;X-TITLE=411 Three Oaks Drive:geo:-78.365312,39.298819
END:VEVENT
BEGIN:VEVENT
DTSTART;TZID=America/New_York:20170618T060000
DTEND;TZID=America/New_York:20170618T090000
DTSTAMP:20260421T114358
CREATED:20170411T020139Z
LAST-MODIFIED:20170430T171314Z
UID:10000096-1497765600-1497776400@www.thelandcelebration.org
SUMMARY:Summer Solstice Sweat Lodge Ceremony
DESCRIPTION:
URL:https://www.thelandcelebration.org/event/summer-solstice-sweat-lodge-ceremony/
LOCATION:The Land Celebration\, 411 Three Oaks Drive\, Gore\, VA\, 22637\, United States
CATEGORIES:The Land Celebration
GEO:39.298819;-78.365312
X-APPLE-STRUCTURED-LOCATION;VALUE=URI;X-ADDRESS=The Land Celebration 411 Three Oaks Drive Gore VA 22637 United States;X-APPLE-RADIUS=500;X-TITLE=411 Three Oaks Drive:geo:-78.365312,39.298819
END:VEVENT
BEGIN:VEVENT
DTSTART;VALUE=DATE:20170616
DTEND;VALUE=DATE:20170619
DTSTAMP:20260421T114358
CREATED:20170411T020025Z
LAST-MODIFIED:20170526T130520Z
UID:10000095-1497571200-1497830399@www.thelandcelebration.org
SUMMARY:TLC Summer Solstice Celebration- A Gathering of Hearts!
DESCRIPTION:
URL:https://www.thelandcelebration.org/event/tlc-summer-solstice-celebration-a-gathering-of-hearts/
LOCATION:The Land Celebration\, 411 Three Oaks Drive\, Gore\, VA\, 22637\, United States
CATEGORIES:The Land Celebration
GEO:39.298819;-78.365312
X-APPLE-STRUCTURED-LOCATION;VALUE=URI;X-ADDRESS=The Land Celebration 411 Three Oaks Drive Gore VA 22637 United States;X-APPLE-RADIUS=500;X-TITLE=411 Three Oaks Drive:geo:-78.365312,39.298819
END:VEVENT
BEGIN:VEVENT
DTSTART;VALUE=DATE:20170526
DTEND;VALUE=DATE:20170530
DTSTAMP:20260421T114358
CREATED:20170411T015903Z
LAST-MODIFIED:20170430T171314Z
UID:10000094-1495756800-1496102399@www.thelandcelebration.org
SUMMARY:Tuning Fork Workshop with Marie Perfect
DESCRIPTION:
URL:https://www.thelandcelebration.org/event/tuning-fork-workshop-with-marie-perfect/
LOCATION:The Land Celebration\, 411 Three Oaks Drive\, Gore\, VA\, 22637\, United States
CATEGORIES:The Land Celebration
GEO:39.298819;-78.365312
X-APPLE-STRUCTURED-LOCATION;VALUE=URI;X-ADDRESS=The Land Celebration 411 Three Oaks Drive Gore VA 22637 United States;X-APPLE-RADIUS=500;X-TITLE=411 Three Oaks Drive:geo:-78.365312,39.298819
END:VEVENT
BEGIN:VEVENT
DTSTART;VALUE=DATE:20170428
DTEND;VALUE=DATE:20170506
DTSTAMP:20260421T114358
CREATED:20170411T015554Z
LAST-MODIFIED:20170430T171314Z
UID:10000093-1493337600-1494028799@www.thelandcelebration.org
SUMMARY:Celebration of Being Retreat
DESCRIPTION:
URL:https://www.thelandcelebration.org/event/celebration-of-being-retreat/
LOCATION:The Land Celebration\, 411 Three Oaks Drive\, Gore\, VA\, 22637\, United States
CATEGORIES:The Land Celebration
GEO:39.298819;-78.365312
X-APPLE-STRUCTURED-LOCATION;VALUE=URI;X-ADDRESS=The Land Celebration 411 Three Oaks Drive Gore VA 22637 United States;X-APPLE-RADIUS=500;X-TITLE=411 Three Oaks Drive:geo:-78.365312,39.298819
END:VEVENT
END:VCALENDAR