BEGIN:VCALENDAR
VERSION:2.0
PRODID:-//The Land Celebration | The Lord&#039;s Chapel - ECPv6.15.20//NONSGML v1.0//EN
CALSCALE:GREGORIAN
METHOD:PUBLISH
X-ORIGINAL-URL:https://www.thelandcelebration.org
X-WR-CALDESC:Events for The Land Celebration | The Lord&#039;s Chapel
REFRESH-INTERVAL;VALUE=DURATION:PT1H
X-Robots-Tag:noindex
X-PUBLISHED-TTL:PT1H
BEGIN:VTIMEZONE
TZID:America/New_York
BEGIN:DAYLIGHT
TZOFFSETFROM:-0500
TZOFFSETTO:-0400
TZNAME:EDT
DTSTART:20160313T070000
END:DAYLIGHT
BEGIN:STANDARD
TZOFFSETFROM:-0400
TZOFFSETTO:-0500
TZNAME:EST
DTSTART:20161106T060000
END:STANDARD
BEGIN:DAYLIGHT
TZOFFSETFROM:-0500
TZOFFSETTO:-0400
TZNAME:EDT
DTSTART:20170312T070000
END:DAYLIGHT
BEGIN:STANDARD
TZOFFSETFROM:-0400
TZOFFSETTO:-0500
TZNAME:EST
DTSTART:20171105T060000
END:STANDARD
BEGIN:DAYLIGHT
TZOFFSETFROM:-0500
TZOFFSETTO:-0400
TZNAME:EDT
DTSTART:20180311T070000
END:DAYLIGHT
BEGIN:STANDARD
TZOFFSETFROM:-0400
TZOFFSETTO:-0500
TZNAME:EST
DTSTART:20181104T060000
END:STANDARD
END:VTIMEZONE
BEGIN:VEVENT
DTSTART;TZID=America/New_York:20170814T180000
DTEND;TZID=America/New_York:20170814T190000
DTSTAMP:20260419T200116
CREATED:20170524T172458Z
LAST-MODIFIED:20170524T204035Z
UID:10000173-1502733600-1502737200@www.thelandcelebration.org
SUMMARY:Gentle Yoga
DESCRIPTION:Classes will be suitable for all levels\, and will focus on giving you a gentle and nourishing start to your week.  \nTo sign up or for more info\, email Terri Ward at SoulNourish3@gmail.com or call/text at 540-550-7357
URL:https://www.thelandcelebration.org/event/gentle-yoga/2017-08-14/
LOCATION:The Lord’s Chapel\, 1244 Greenwood Rd.\, Winchester\, VA\, 22602\, United States
CATEGORIES:The Lord's Chapel
ORGANIZER;CN="Terri Ward":MAILTO:SoulNourish3@gmail.com
GEO:39.157173;-78.1233419
X-APPLE-STRUCTURED-LOCATION;VALUE=URI;X-ADDRESS=The Lord’s Chapel 1244 Greenwood Rd. Winchester VA 22602 United States;X-APPLE-RADIUS=500;X-TITLE=1244 Greenwood Rd.:geo:-78.1233419,39.157173
END:VEVENT
BEGIN:VEVENT
DTSTART;TZID=America/New_York:20170807T180000
DTEND;TZID=America/New_York:20170807T190000
DTSTAMP:20260419T200116
CREATED:20170524T172458Z
LAST-MODIFIED:20170524T204035Z
UID:10000172-1502128800-1502132400@www.thelandcelebration.org
SUMMARY:Gentle Yoga
DESCRIPTION:Classes will be suitable for all levels\, and will focus on giving you a gentle and nourishing start to your week.  \nTo sign up or for more info\, email Terri Ward at SoulNourish3@gmail.com or call/text at 540-550-7357
URL:https://www.thelandcelebration.org/event/gentle-yoga/2017-08-07/
LOCATION:The Lord’s Chapel\, 1244 Greenwood Rd.\, Winchester\, VA\, 22602\, United States
CATEGORIES:The Lord's Chapel
ORGANIZER;CN="Terri Ward":MAILTO:SoulNourish3@gmail.com
GEO:39.157173;-78.1233419
X-APPLE-STRUCTURED-LOCATION;VALUE=URI;X-ADDRESS=The Lord’s Chapel 1244 Greenwood Rd. Winchester VA 22602 United States;X-APPLE-RADIUS=500;X-TITLE=1244 Greenwood Rd.:geo:-78.1233419,39.157173
END:VEVENT
BEGIN:VEVENT
DTSTART;TZID=America/New_York:20170731T180000
DTEND;TZID=America/New_York:20170731T190000
DTSTAMP:20260419T200116
CREATED:20170524T172458Z
LAST-MODIFIED:20170524T204035Z
UID:10000171-1501524000-1501527600@www.thelandcelebration.org
SUMMARY:Gentle Yoga
DESCRIPTION:Classes will be suitable for all levels\, and will focus on giving you a gentle and nourishing start to your week.  \nTo sign up or for more info\, email Terri Ward at SoulNourish3@gmail.com or call/text at 540-550-7357
URL:https://www.thelandcelebration.org/event/gentle-yoga/2017-07-31/
LOCATION:The Lord’s Chapel\, 1244 Greenwood Rd.\, Winchester\, VA\, 22602\, United States
CATEGORIES:The Lord's Chapel
ORGANIZER;CN="Terri Ward":MAILTO:SoulNourish3@gmail.com
GEO:39.157173;-78.1233419
X-APPLE-STRUCTURED-LOCATION;VALUE=URI;X-ADDRESS=The Lord’s Chapel 1244 Greenwood Rd. Winchester VA 22602 United States;X-APPLE-RADIUS=500;X-TITLE=1244 Greenwood Rd.:geo:-78.1233419,39.157173
END:VEVENT
BEGIN:VEVENT
DTSTART;TZID=America/New_York:20170724T180000
DTEND;TZID=America/New_York:20170724T190000
DTSTAMP:20260419T200116
CREATED:20170524T172458Z
LAST-MODIFIED:20170524T204035Z
UID:10000170-1500919200-1500922800@www.thelandcelebration.org
SUMMARY:Gentle Yoga
DESCRIPTION:Classes will be suitable for all levels\, and will focus on giving you a gentle and nourishing start to your week.  \nTo sign up or for more info\, email Terri Ward at SoulNourish3@gmail.com or call/text at 540-550-7357
URL:https://www.thelandcelebration.org/event/gentle-yoga/2017-07-24/
LOCATION:The Lord’s Chapel\, 1244 Greenwood Rd.\, Winchester\, VA\, 22602\, United States
CATEGORIES:The Lord's Chapel
ORGANIZER;CN="Terri Ward":MAILTO:SoulNourish3@gmail.com
GEO:39.157173;-78.1233419
X-APPLE-STRUCTURED-LOCATION;VALUE=URI;X-ADDRESS=The Lord’s Chapel 1244 Greenwood Rd. Winchester VA 22602 United States;X-APPLE-RADIUS=500;X-TITLE=1244 Greenwood Rd.:geo:-78.1233419,39.157173
END:VEVENT
BEGIN:VEVENT
DTSTART;TZID=America/New_York:20170717T180000
DTEND;TZID=America/New_York:20170717T190000
DTSTAMP:20260419T200116
CREATED:20170524T172458Z
LAST-MODIFIED:20170524T204035Z
UID:10000169-1500314400-1500318000@www.thelandcelebration.org
SUMMARY:Gentle Yoga
DESCRIPTION:Classes will be suitable for all levels\, and will focus on giving you a gentle and nourishing start to your week.  \nTo sign up or for more info\, email Terri Ward at SoulNourish3@gmail.com or call/text at 540-550-7357
URL:https://www.thelandcelebration.org/event/gentle-yoga/2017-07-17/
LOCATION:The Lord’s Chapel\, 1244 Greenwood Rd.\, Winchester\, VA\, 22602\, United States
CATEGORIES:The Lord's Chapel
ORGANIZER;CN="Terri Ward":MAILTO:SoulNourish3@gmail.com
GEO:39.157173;-78.1233419
X-APPLE-STRUCTURED-LOCATION;VALUE=URI;X-ADDRESS=The Lord’s Chapel 1244 Greenwood Rd. Winchester VA 22602 United States;X-APPLE-RADIUS=500;X-TITLE=1244 Greenwood Rd.:geo:-78.1233419,39.157173
END:VEVENT
BEGIN:VEVENT
DTSTART;TZID=America/New_York:20170710T180000
DTEND;TZID=America/New_York:20170710T190000
DTSTAMP:20260419T200116
CREATED:20170524T172458Z
LAST-MODIFIED:20170524T204035Z
UID:10000168-1499709600-1499713200@www.thelandcelebration.org
SUMMARY:Gentle Yoga
DESCRIPTION:Classes will be suitable for all levels\, and will focus on giving you a gentle and nourishing start to your week.  \nTo sign up or for more info\, email Terri Ward at SoulNourish3@gmail.com or call/text at 540-550-7357
URL:https://www.thelandcelebration.org/event/gentle-yoga/2017-07-10/
LOCATION:The Lord’s Chapel\, 1244 Greenwood Rd.\, Winchester\, VA\, 22602\, United States
CATEGORIES:The Lord's Chapel
ORGANIZER;CN="Terri Ward":MAILTO:SoulNourish3@gmail.com
GEO:39.157173;-78.1233419
X-APPLE-STRUCTURED-LOCATION;VALUE=URI;X-ADDRESS=The Lord’s Chapel 1244 Greenwood Rd. Winchester VA 22602 United States;X-APPLE-RADIUS=500;X-TITLE=1244 Greenwood Rd.:geo:-78.1233419,39.157173
END:VEVENT
BEGIN:VEVENT
DTSTART;TZID=America/New_York:20170703T180000
DTEND;TZID=America/New_York:20170703T190000
DTSTAMP:20260419T200116
CREATED:20170524T172458Z
LAST-MODIFIED:20170524T204035Z
UID:10000167-1499104800-1499108400@www.thelandcelebration.org
SUMMARY:Gentle Yoga
DESCRIPTION:Classes will be suitable for all levels\, and will focus on giving you a gentle and nourishing start to your week.  \nTo sign up or for more info\, email Terri Ward at SoulNourish3@gmail.com or call/text at 540-550-7357
URL:https://www.thelandcelebration.org/event/gentle-yoga/2017-07-03/
LOCATION:The Lord’s Chapel\, 1244 Greenwood Rd.\, Winchester\, VA\, 22602\, United States
CATEGORIES:The Lord's Chapel
ORGANIZER;CN="Terri Ward":MAILTO:SoulNourish3@gmail.com
GEO:39.157173;-78.1233419
X-APPLE-STRUCTURED-LOCATION;VALUE=URI;X-ADDRESS=The Lord’s Chapel 1244 Greenwood Rd. Winchester VA 22602 United States;X-APPLE-RADIUS=500;X-TITLE=1244 Greenwood Rd.:geo:-78.1233419,39.157173
END:VEVENT
BEGIN:VEVENT
DTSTART;TZID=America/New_York:20170626T180000
DTEND;TZID=America/New_York:20170626T190000
DTSTAMP:20260419T200116
CREATED:20170524T172458Z
LAST-MODIFIED:20170524T204035Z
UID:10000166-1498500000-1498503600@www.thelandcelebration.org
SUMMARY:Gentle Yoga
DESCRIPTION:Classes will be suitable for all levels\, and will focus on giving you a gentle and nourishing start to your week.  \nTo sign up or for more info\, email Terri Ward at SoulNourish3@gmail.com or call/text at 540-550-7357
URL:https://www.thelandcelebration.org/event/gentle-yoga/2017-06-26/
LOCATION:The Lord’s Chapel\, 1244 Greenwood Rd.\, Winchester\, VA\, 22602\, United States
CATEGORIES:The Lord's Chapel
ORGANIZER;CN="Terri Ward":MAILTO:SoulNourish3@gmail.com
GEO:39.157173;-78.1233419
X-APPLE-STRUCTURED-LOCATION;VALUE=URI;X-ADDRESS=The Lord’s Chapel 1244 Greenwood Rd. Winchester VA 22602 United States;X-APPLE-RADIUS=500;X-TITLE=1244 Greenwood Rd.:geo:-78.1233419,39.157173
END:VEVENT
BEGIN:VEVENT
DTSTART;TZID=America/New_York:20170619T180000
DTEND;TZID=America/New_York:20170619T190000
DTSTAMP:20260419T200116
CREATED:20170524T172458Z
LAST-MODIFIED:20170524T204035Z
UID:10000165-1497895200-1497898800@www.thelandcelebration.org
SUMMARY:Gentle Yoga
DESCRIPTION:Classes will be suitable for all levels\, and will focus on giving you a gentle and nourishing start to your week.  \nTo sign up or for more info\, email Terri Ward at SoulNourish3@gmail.com or call/text at 540-550-7357
URL:https://www.thelandcelebration.org/event/gentle-yoga/2017-06-19/
LOCATION:The Lord’s Chapel\, 1244 Greenwood Rd.\, Winchester\, VA\, 22602\, United States
CATEGORIES:The Lord's Chapel
ORGANIZER;CN="Terri Ward":MAILTO:SoulNourish3@gmail.com
GEO:39.157173;-78.1233419
X-APPLE-STRUCTURED-LOCATION;VALUE=URI;X-ADDRESS=The Lord’s Chapel 1244 Greenwood Rd. Winchester VA 22602 United States;X-APPLE-RADIUS=500;X-TITLE=1244 Greenwood Rd.:geo:-78.1233419,39.157173
END:VEVENT
END:VCALENDAR