BEGIN:VCALENDAR
VERSION:2.0
PRODID:-//The Land Celebration | The Lord&#039;s Chapel - ECPv6.15.20//NONSGML v1.0//EN
CALSCALE:GREGORIAN
METHOD:PUBLISH
X-WR-CALNAME:The Land Celebration | The Lord&#039;s Chapel
X-ORIGINAL-URL:https://www.thelandcelebration.org
X-WR-CALDESC:Events for The Land Celebration | The Lord&#039;s Chapel
REFRESH-INTERVAL;VALUE=DURATION:PT1H
X-Robots-Tag:noindex
X-PUBLISHED-TTL:PT1H
BEGIN:VTIMEZONE
TZID:America/New_York
BEGIN:DAYLIGHT
TZOFFSETFROM:-0500
TZOFFSETTO:-0400
TZNAME:EDT
DTSTART:20220313T070000
END:DAYLIGHT
BEGIN:STANDARD
TZOFFSETFROM:-0400
TZOFFSETTO:-0500
TZNAME:EST
DTSTART:20221106T060000
END:STANDARD
BEGIN:DAYLIGHT
TZOFFSETFROM:-0500
TZOFFSETTO:-0400
TZNAME:EDT
DTSTART:20230312T070000
END:DAYLIGHT
BEGIN:STANDARD
TZOFFSETFROM:-0400
TZOFFSETTO:-0500
TZNAME:EST
DTSTART:20231105T060000
END:STANDARD
BEGIN:DAYLIGHT
TZOFFSETFROM:-0500
TZOFFSETTO:-0400
TZNAME:EDT
DTSTART:20240310T070000
END:DAYLIGHT
BEGIN:STANDARD
TZOFFSETFROM:-0400
TZOFFSETTO:-0500
TZNAME:EST
DTSTART:20241103T060000
END:STANDARD
END:VTIMEZONE
BEGIN:VEVENT
DTSTART;VALUE=DATE:20230527
DTEND;VALUE=DATE:20230530
DTSTAMP:20260419T185230
CREATED:20230411T174421Z
LAST-MODIFIED:20230411T174421Z
UID:10000379-1685145600-1685404799@www.thelandcelebration.org
SUMMARY:Reconnect to Magic
DESCRIPTION:  \nDo you remember a time when you were driven purely by imagination?\nWithout the tethers of social obligations\, free to be unapologetically you? \nWe’re stepping away from our hectic day to day so we can get back to that magical part inside each of us that doesn’t always see and get the attention they want and deserve. \nWe’re giving permission to frolic with nature and tune to her natural rhythms… \nRemembering who we are….reconnecting to magic! \nClick here for details \n 
URL:https://www.thelandcelebration.org/event/reconnect-to-magic/
LOCATION:The Land Celebration\, 411 Three Oaks Drive\, Gore\, VA\, 22637\, United States
CATEGORIES:The Land Celebration
GEO:39.298819;-78.365312
X-APPLE-STRUCTURED-LOCATION;VALUE=URI;X-ADDRESS=The Land Celebration 411 Three Oaks Drive Gore VA 22637 United States;X-APPLE-RADIUS=500;X-TITLE=411 Three Oaks Drive:geo:-78.365312,39.298819
END:VEVENT
END:VCALENDAR