BEGIN:VCALENDAR
VERSION:2.0
PRODID:-//The Land Celebration | The Lord&#039;s Chapel - ECPv6.15.20//NONSGML v1.0//EN
CALSCALE:GREGORIAN
METHOD:PUBLISH
X-ORIGINAL-URL:https://www.thelandcelebration.org
X-WR-CALDESC:Events for The Land Celebration | The Lord&#039;s Chapel
REFRESH-INTERVAL;VALUE=DURATION:PT1H
X-Robots-Tag:noindex
X-PUBLISHED-TTL:PT1H
BEGIN:VTIMEZONE
TZID:America/New_York
BEGIN:DAYLIGHT
TZOFFSETFROM:-0500
TZOFFSETTO:-0400
TZNAME:EDT
DTSTART:20190310T070000
END:DAYLIGHT
BEGIN:STANDARD
TZOFFSETFROM:-0400
TZOFFSETTO:-0500
TZNAME:EST
DTSTART:20191103T060000
END:STANDARD
BEGIN:DAYLIGHT
TZOFFSETFROM:-0500
TZOFFSETTO:-0400
TZNAME:EDT
DTSTART:20200308T070000
END:DAYLIGHT
BEGIN:STANDARD
TZOFFSETFROM:-0400
TZOFFSETTO:-0500
TZNAME:EST
DTSTART:20201101T060000
END:STANDARD
BEGIN:DAYLIGHT
TZOFFSETFROM:-0500
TZOFFSETTO:-0400
TZNAME:EDT
DTSTART:20210314T070000
END:DAYLIGHT
BEGIN:STANDARD
TZOFFSETFROM:-0400
TZOFFSETTO:-0500
TZNAME:EST
DTSTART:20211107T060000
END:STANDARD
END:VTIMEZONE
BEGIN:VEVENT
DTSTART;TZID=America/New_York:20200605T190000
DTEND;TZID=America/New_York:20200605T200000
DTSTAMP:20260419T132640
CREATED:20200205T182404Z
LAST-MODIFIED:20200205T182404Z
UID:10000836-1591383600-1591387200@www.thelandcelebration.org
SUMMARY:Full Moon Drum Circle
DESCRIPTION:The Sacred Rhythms event series is designed to raise awareness of the natural rhythms and cycles of nature. Each event of this series is held on or near days that mark these cycles. By remembering\, honoring\, and celebrating nature’s cycles we find our way to a re-membering of our own natural cycles. When we tune into our own innate rhythms the magic of healing can begin. Balance\, peace\, and wellness naturally occur and we begin to feel more centered as our perception expands to include the spiral movement of living. \nSome drums provided. Bring them if you have them! \n$10 requested exchange.
URL:https://www.thelandcelebration.org/event/full-moon-drum-circle-5/
LOCATION:The Lord’s Chapel\, 1244 Greenwood Rd.\, Winchester\, VA\, 22602\, United States
CATEGORIES:The Lord's Chapel
GEO:39.157173;-78.1233419
X-APPLE-STRUCTURED-LOCATION;VALUE=URI;X-ADDRESS=The Lord’s Chapel 1244 Greenwood Rd. Winchester VA 22602 United States;X-APPLE-RADIUS=500;X-TITLE=1244 Greenwood Rd.:geo:-78.1233419,39.157173
END:VEVENT
BEGIN:VEVENT
DTSTART;TZID=America/New_York:20200508T190000
DTEND;TZID=America/New_York:20200508T203000
DTSTAMP:20260419T132640
CREATED:20200205T182231Z
LAST-MODIFIED:20200205T182231Z
UID:10000835-1588964400-1588969800@www.thelandcelebration.org
SUMMARY:Full Moon Drum Circle
DESCRIPTION:The Sacred Rhythms event series is designed to raise awareness of the natural rhythms and cycles of nature. Each event of this series is held on or near days that mark these cycles. By remembering\, honoring\, and celebrating nature’s cycles we find our way to a re-membering of our own natural cycles. When we tune into our own innate rhythms the magic of healing can begin. Balance\, peace\, and wellness naturally occur and we begin to feel more centered as our perception expands to include the spiral movement of living. \nSome drums provided. Bring them if you have them! \n$10 requested exchange.
URL:https://www.thelandcelebration.org/event/full-moon-drum-circle-4/
LOCATION:The Lord’s Chapel\, 1244 Greenwood Rd.\, Winchester\, VA\, 22602\, United States
CATEGORIES:The Lord's Chapel
GEO:39.157173;-78.1233419
X-APPLE-STRUCTURED-LOCATION;VALUE=URI;X-ADDRESS=The Lord’s Chapel 1244 Greenwood Rd. Winchester VA 22602 United States;X-APPLE-RADIUS=500;X-TITLE=1244 Greenwood Rd.:geo:-78.1233419,39.157173
END:VEVENT
BEGIN:VEVENT
DTSTART;TZID=America/New_York:20200407T190000
DTEND;TZID=America/New_York:20200407T203000
DTSTAMP:20260419T132640
CREATED:20200205T181853Z
LAST-MODIFIED:20200205T181853Z
UID:10000834-1586286000-1586291400@www.thelandcelebration.org
SUMMARY:Full Moon Drum Circle
DESCRIPTION:The Sacred Rhythms event series is designed to raise awareness of the natural rhythms and cycles of nature. Each event of this series is held on or near days that mark these cycles. By remembering\, honoring\, and celebrating nature’s cycles we find our way to a re-membering of our own natural cycles. When we tune into our own innate rhythms the magic of healing can begin. Balance\, peace\, and wellness naturally occur and we begin to feel more centered as our perception expands to include the spiral movement of living. \nSome drums provided. Bring them if you have them! \n$10 requested exchange. \n 
URL:https://www.thelandcelebration.org/event/full-moon-drum-circle-3/
LOCATION:The Lord’s Chapel\, 1244 Greenwood Rd.\, Winchester\, VA\, 22602\, United States
CATEGORIES:The Lord's Chapel
GEO:39.157173;-78.1233419
X-APPLE-STRUCTURED-LOCATION;VALUE=URI;X-ADDRESS=The Lord’s Chapel 1244 Greenwood Rd. Winchester VA 22602 United States;X-APPLE-RADIUS=500;X-TITLE=1244 Greenwood Rd.:geo:-78.1233419,39.157173
END:VEVENT
END:VCALENDAR