BEGIN:VCALENDAR
VERSION:2.0
PRODID:-//The Land Celebration | The Lord&#039;s Chapel - ECPv6.15.20//NONSGML v1.0//EN
CALSCALE:GREGORIAN
METHOD:PUBLISH
X-ORIGINAL-URL:https://www.thelandcelebration.org
X-WR-CALDESC:Events for The Land Celebration | The Lord&#039;s Chapel
REFRESH-INTERVAL;VALUE=DURATION:PT1H
X-Robots-Tag:noindex
X-PUBLISHED-TTL:PT1H
BEGIN:VTIMEZONE
TZID:America/New_York
BEGIN:DAYLIGHT
TZOFFSETFROM:-0500
TZOFFSETTO:-0400
TZNAME:EDT
DTSTART:20220313T070000
END:DAYLIGHT
BEGIN:STANDARD
TZOFFSETFROM:-0400
TZOFFSETTO:-0500
TZNAME:EST
DTSTART:20221106T060000
END:STANDARD
BEGIN:DAYLIGHT
TZOFFSETFROM:-0500
TZOFFSETTO:-0400
TZNAME:EDT
DTSTART:20230312T070000
END:DAYLIGHT
BEGIN:STANDARD
TZOFFSETFROM:-0400
TZOFFSETTO:-0500
TZNAME:EST
DTSTART:20231105T060000
END:STANDARD
BEGIN:DAYLIGHT
TZOFFSETFROM:-0500
TZOFFSETTO:-0400
TZNAME:EDT
DTSTART:20240310T070000
END:DAYLIGHT
BEGIN:STANDARD
TZOFFSETFROM:-0400
TZOFFSETTO:-0500
TZNAME:EST
DTSTART:20241103T060000
END:STANDARD
END:VTIMEZONE
BEGIN:VEVENT
DTSTART;TZID=America/New_York:20231110T150000
DTEND;TZID=America/New_York:20231112T150000
DTSTAMP:20260419T171053
CREATED:20231004T141721Z
LAST-MODIFIED:20231004T141721Z
UID:10000845-1699628400-1699801200@www.thelandcelebration.org
SUMMARY:Inner Journey ~ Women's Retreat
DESCRIPTION:Throughout this retreat\, you will have the opportunity to participate in a variety of activities\, some guided\, aimed to help you to connect with your inner self and nature at a deeper level. From Forest Therapy walks and journaling to Sound Baths\, Reiki and campfires under the starry sky\, you will have space for self discovery and healing. In addition to the scheduled activities you will have plenty of free time to explore the trails\, take a nap\, or read a book\, whatever your mind and soul need. \n\n\n\nFor details and registration click here\n\n\n 
URL:https://www.thelandcelebration.org/event/inner-journey-womens-retreat/
LOCATION:The Land Celebration\, 411 Three Oaks Drive\, Gore\, VA\, 22637\, United States
CATEGORIES:The Land Celebration
ORGANIZER;CN="Suzanne Cervarich":MAILTO:CERVARICH@VERIZON.NET
GEO:39.298819;-78.365312
X-APPLE-STRUCTURED-LOCATION;VALUE=URI;X-ADDRESS=The Land Celebration 411 Three Oaks Drive Gore VA 22637 United States;X-APPLE-RADIUS=500;X-TITLE=411 Three Oaks Drive:geo:-78.365312,39.298819
END:VEVENT
END:VCALENDAR