BEGIN:VCALENDAR
VERSION:2.0
PRODID:-//The Land Celebration | The Lord&#039;s Chapel - ECPv6.15.20//NONSGML v1.0//EN
CALSCALE:GREGORIAN
METHOD:PUBLISH
X-WR-CALNAME:The Land Celebration | The Lord&#039;s Chapel
X-ORIGINAL-URL:https://www.thelandcelebration.org
X-WR-CALDESC:Events for The Land Celebration | The Lord&#039;s Chapel
REFRESH-INTERVAL;VALUE=DURATION:PT1H
X-Robots-Tag:noindex
X-PUBLISHED-TTL:PT1H
BEGIN:VTIMEZONE
TZID:America/New_York
BEGIN:DAYLIGHT
TZOFFSETFROM:-0500
TZOFFSETTO:-0400
TZNAME:EDT
DTSTART:20240310T070000
END:DAYLIGHT
BEGIN:STANDARD
TZOFFSETFROM:-0400
TZOFFSETTO:-0500
TZNAME:EST
DTSTART:20241103T060000
END:STANDARD
BEGIN:DAYLIGHT
TZOFFSETFROM:-0500
TZOFFSETTO:-0400
TZNAME:EDT
DTSTART:20250309T070000
END:DAYLIGHT
BEGIN:STANDARD
TZOFFSETFROM:-0400
TZOFFSETTO:-0500
TZNAME:EST
DTSTART:20251102T060000
END:STANDARD
BEGIN:DAYLIGHT
TZOFFSETFROM:-0500
TZOFFSETTO:-0400
TZNAME:EDT
DTSTART:20260308T070000
END:DAYLIGHT
BEGIN:STANDARD
TZOFFSETFROM:-0400
TZOFFSETTO:-0500
TZNAME:EST
DTSTART:20261101T060000
END:STANDARD
END:VTIMEZONE
BEGIN:VEVENT
DTSTART;VALUE=DATE:20250410
DTEND;VALUE=DATE:20250414
DTSTAMP:20260419T153757
CREATED:20240805T171728Z
LAST-MODIFIED:20250306T165157Z
UID:10000857-1744243200-1744588799@www.thelandcelebration.org
SUMMARY:Soul Collage & IFS Women's Retreat
DESCRIPTION:We will spend four days and three nights together exploring nature\, our internal systems\, and Self through gentle movements\, IFS parts work\, art therapy\, Soul Collage\, meditations\, journaling\, plus other therapeutic self-care activities.  We hope you will join us for this amazing event towards inner peace and connection! \nCheck out our website for more information. If you have any questions\, please do not hesitate to contact us.  We invite all women to join us!  If you are a therapist\, please share with any client’s who you feel might benefit from this experience!  If you are a therapist and just need some self-care down time\, join us!
URL:https://www.thelandcelebration.org/event/womens-retreat/
LOCATION:The Land Celebration\, 411 Three Oaks Drive\, Gore\, VA\, 22637\, United States
CATEGORIES:The Land Celebration
ORGANIZER;CN="Juli McWilliams%2C MS%2C LMFT":MAILTO:juli@harmoniouspartscounseling.com
GEO:39.298819;-78.365312
X-APPLE-STRUCTURED-LOCATION;VALUE=URI;X-ADDRESS=The Land Celebration 411 Three Oaks Drive Gore VA 22637 United States;X-APPLE-RADIUS=500;X-TITLE=411 Three Oaks Drive:geo:-78.365312,39.298819
END:VEVENT
END:VCALENDAR