BEGIN:VCALENDAR
VERSION:2.0
PRODID:-//The Land Celebration | The Lord&#039;s Chapel - ECPv6.15.20//NONSGML v1.0//EN
CALSCALE:GREGORIAN
METHOD:PUBLISH
X-WR-CALNAME:The Land Celebration | The Lord&#039;s Chapel
X-ORIGINAL-URL:https://www.thelandcelebration.org
X-WR-CALDESC:Events for The Land Celebration | The Lord&#039;s Chapel
REFRESH-INTERVAL;VALUE=DURATION:PT1H
X-Robots-Tag:noindex
X-PUBLISHED-TTL:PT1H
BEGIN:VTIMEZONE
TZID:America/New_York
BEGIN:DAYLIGHT
TZOFFSETFROM:-0500
TZOFFSETTO:-0400
TZNAME:EDT
DTSTART:20210314T070000
END:DAYLIGHT
BEGIN:STANDARD
TZOFFSETFROM:-0400
TZOFFSETTO:-0500
TZNAME:EST
DTSTART:20211107T060000
END:STANDARD
BEGIN:DAYLIGHT
TZOFFSETFROM:-0500
TZOFFSETTO:-0400
TZNAME:EDT
DTSTART:20220313T070000
END:DAYLIGHT
BEGIN:STANDARD
TZOFFSETFROM:-0400
TZOFFSETTO:-0500
TZNAME:EST
DTSTART:20221106T060000
END:STANDARD
BEGIN:DAYLIGHT
TZOFFSETFROM:-0500
TZOFFSETTO:-0400
TZNAME:EDT
DTSTART:20230312T070000
END:DAYLIGHT
BEGIN:STANDARD
TZOFFSETFROM:-0400
TZOFFSETTO:-0500
TZNAME:EST
DTSTART:20231105T060000
END:STANDARD
END:VTIMEZONE
BEGIN:VEVENT
DTSTART;TZID=America/New_York:20220217T100000
DTEND;TZID=America/New_York:20220219T190000
DTSTAMP:20260419T154350
CREATED:20210814T195132Z
LAST-MODIFIED:20211222T200226Z
UID:10000824-1645092000-1645297200@www.thelandcelebration.org
SUMMARY:HeartThread Practitioner Training
DESCRIPTION: From the time we are very young\, unresolved hurts\, grief and disappointments are shunted to parts of our body where patterns develop that “hold” our fears and angers. These unexpressed emotions and mental ideas of reactivity become beliefs that reside within our bodies\, creating places of “held” energy and dis-ease. Our breath no longer reaches the innermost parts of us\, thus creating stagnation and separation in our body and within its systems. When these unconscious patterns are made conscious from the intelligence of our cells through HeartThread\, our self-imposed fears and restrictions fall away. HeartThread brings clarity and conscious understanding of the physical patterns that affect our behavior and determine our approach to life. \nWhen we are joined through the heart\, we feel safe. As an organism\, this sense of safety influences and affects every cell in our body. No matter what has happened to us mentally\, emotionally\, or physically\, holding our heart with the HeartThread intention energizes all of our cells\, bringing light into them\, balancing them\, opening them\, and assisting them to flow with the energy of our consciousness. \nHeartThread (HT) trainings are three days in length and are practical\, experiential hands-on learning opportunities. HT is an easy-to-learn and simple-to-practice modality that is a great adjunct to other therapies. No prerequisites are necessary. You can begin working right away as a HT Facilitator. Certification protocols have also been developed to further qualify your practice. When we place our awareness in our heart\, we are outside of time. Conditioned experiences of having or not having\, being happy or sad\, dark or light\, good or bad are released from our mind and experience\, and our Heart Threads bring us grace. \nCost: $760 \nFor details and registration click here \n 
URL:https://www.thelandcelebration.org/event/heartthread-practitioner-traning/
LOCATION:The Land Celebration\, 411 Three Oaks Drive\, Gore\, VA\, 22637\, United States
CATEGORIES:The Land Celebration
ORGANIZER;CN="Flo Magdalena":MAILTO:flo@flomagdalena.com
GEO:39.298819;-78.365312
X-APPLE-STRUCTURED-LOCATION;VALUE=URI;X-ADDRESS=The Land Celebration 411 Three Oaks Drive Gore VA 22637 United States;X-APPLE-RADIUS=500;X-TITLE=411 Three Oaks Drive:geo:-78.365312,39.298819
END:VEVENT
END:VCALENDAR