BEGIN:VCALENDAR
VERSION:2.0
PRODID:-//The Land Celebration | The Lord&#039;s Chapel - ECPv6.15.20//NONSGML v1.0//EN
CALSCALE:GREGORIAN
METHOD:PUBLISH
X-ORIGINAL-URL:https://www.thelandcelebration.org
X-WR-CALDESC:Events for The Land Celebration | The Lord&#039;s Chapel
REFRESH-INTERVAL;VALUE=DURATION:PT1H
X-Robots-Tag:noindex
X-PUBLISHED-TTL:PT1H
BEGIN:VTIMEZONE
TZID:America/New_York
BEGIN:DAYLIGHT
TZOFFSETFROM:-0500
TZOFFSETTO:-0400
TZNAME:EDT
DTSTART:20250309T070000
END:DAYLIGHT
BEGIN:STANDARD
TZOFFSETFROM:-0400
TZOFFSETTO:-0500
TZNAME:EST
DTSTART:20251102T060000
END:STANDARD
BEGIN:DAYLIGHT
TZOFFSETFROM:-0500
TZOFFSETTO:-0400
TZNAME:EDT
DTSTART:20260308T070000
END:DAYLIGHT
BEGIN:STANDARD
TZOFFSETFROM:-0400
TZOFFSETTO:-0500
TZNAME:EST
DTSTART:20261101T060000
END:STANDARD
BEGIN:DAYLIGHT
TZOFFSETFROM:-0500
TZOFFSETTO:-0400
TZNAME:EDT
DTSTART:20270314T070000
END:DAYLIGHT
BEGIN:STANDARD
TZOFFSETFROM:-0400
TZOFFSETTO:-0500
TZNAME:EST
DTSTART:20271107T060000
END:STANDARD
END:VTIMEZONE
BEGIN:VEVENT
DTSTART;TZID=America/New_York:20260426T110000
DTEND;TZID=America/New_York:20260426T123000
DTSTAMP:20260419T194606
CREATED:20200111T195428Z
LAST-MODIFIED:20250513T215734Z
UID:10024420-1777201200-1777206600@www.thelandcelebration.org
SUMMARY:Sunday Gathering
DESCRIPTION:10:45am – 11:00am Meditation Music \n11:00am – 12:30pm Guided Meditation\, Devotional Singing\, Healing Circle with Crystal Bowls\, and Openhearted Inspirational Sharing \n 
URL:https://www.thelandcelebration.org/event/sunday-gathering-2-2022-12-04/
LOCATION:The Lord’s Chapel\, 1244 Greenwood Rd.\, Winchester\, VA\, 22602\, United States
CATEGORIES:The Lord's Chapel
GEO:39.157173;-78.1233419
X-APPLE-STRUCTURED-LOCATION;VALUE=URI;X-ADDRESS=The Lord’s Chapel 1244 Greenwood Rd. Winchester VA 22602 United States;X-APPLE-RADIUS=500;X-TITLE=1244 Greenwood Rd.:geo:-78.1233419,39.157173
END:VEVENT
BEGIN:VEVENT
DTSTART;TZID=America/New_York:20260426T110000
DTEND;TZID=America/New_York:20260426T123000
DTSTAMP:20260419T194606
CREATED:20200111T195428Z
LAST-MODIFIED:20250513T215734Z
UID:10024808-1777201200-1777206600@www.thelandcelebration.org
SUMMARY:Sunday Gathering
DESCRIPTION:10:45am – 11:00am Meditation Music \n11:00am – 12:30pm Guided Meditation\, Devotional Singing\, Healing Circle with Crystal Bowls\, and Openhearted Inspirational Sharing \n 
URL:https://www.thelandcelebration.org/event/sunday-gathering-2-2022-12-11/
LOCATION:The Lord’s Chapel\, 1244 Greenwood Rd.\, Winchester\, VA\, 22602\, United States
CATEGORIES:The Lord's Chapel
GEO:39.157173;-78.1233419
X-APPLE-STRUCTURED-LOCATION;VALUE=URI;X-ADDRESS=The Lord’s Chapel 1244 Greenwood Rd. Winchester VA 22602 United States;X-APPLE-RADIUS=500;X-TITLE=1244 Greenwood Rd.:geo:-78.1233419,39.157173
END:VEVENT
BEGIN:VEVENT
DTSTART;TZID=America/New_York:20260426T110000
DTEND;TZID=America/New_York:20260426T123000
DTSTAMP:20260419T194606
CREATED:20200111T195428Z
LAST-MODIFIED:20250513T215734Z
UID:10025195-1777201200-1777206600@www.thelandcelebration.org
SUMMARY:Sunday Gathering
DESCRIPTION:10:45am – 11:00am Meditation Music \n11:00am – 12:30pm Guided Meditation\, Devotional Singing\, Healing Circle with Crystal Bowls\, and Openhearted Inspirational Sharing \n 
URL:https://www.thelandcelebration.org/event/sunday-gathering-2-2022-12-18/
LOCATION:The Lord’s Chapel\, 1244 Greenwood Rd.\, Winchester\, VA\, 22602\, United States
CATEGORIES:The Lord's Chapel
GEO:39.157173;-78.1233419
X-APPLE-STRUCTURED-LOCATION;VALUE=URI;X-ADDRESS=The Lord’s Chapel 1244 Greenwood Rd. Winchester VA 22602 United States;X-APPLE-RADIUS=500;X-TITLE=1244 Greenwood Rd.:geo:-78.1233419,39.157173
END:VEVENT
BEGIN:VEVENT
DTSTART;TZID=America/New_York:20260426T110000
DTEND;TZID=America/New_York:20260426T123000
DTSTAMP:20260419T194606
CREATED:20200111T195428Z
LAST-MODIFIED:20250513T215734Z
UID:10025581-1777201200-1777206600@www.thelandcelebration.org
SUMMARY:Sunday Gathering
DESCRIPTION:10:45am – 11:00am Meditation Music \n11:00am – 12:30pm Guided Meditation\, Devotional Singing\, Healing Circle with Crystal Bowls\, and Openhearted Inspirational Sharing \n 
URL:https://www.thelandcelebration.org/event/sunday-gathering-2-2022-12-25/
LOCATION:The Lord’s Chapel\, 1244 Greenwood Rd.\, Winchester\, VA\, 22602\, United States
CATEGORIES:The Lord's Chapel
GEO:39.157173;-78.1233419
X-APPLE-STRUCTURED-LOCATION;VALUE=URI;X-ADDRESS=The Lord’s Chapel 1244 Greenwood Rd. Winchester VA 22602 United States;X-APPLE-RADIUS=500;X-TITLE=1244 Greenwood Rd.:geo:-78.1233419,39.157173
END:VEVENT
BEGIN:VEVENT
DTSTART;TZID=America/New_York:20260426T110000
DTEND;TZID=America/New_York:20260426T123000
DTSTAMP:20260419T194606
CREATED:20200111T195428Z
LAST-MODIFIED:20250513T215735Z
UID:10025966-1777201200-1777206600@www.thelandcelebration.org
SUMMARY:Sunday Gathering
DESCRIPTION:10:45am – 11:00am Meditation Music \n11:00am – 12:30pm Guided Meditation\, Devotional Singing\, Healing Circle with Crystal Bowls\, and Openhearted Inspirational Sharing \n 
URL:https://www.thelandcelebration.org/event/sunday-gathering-2-2023-01-01/
LOCATION:The Lord’s Chapel\, 1244 Greenwood Rd.\, Winchester\, VA\, 22602\, United States
CATEGORIES:The Lord's Chapel
GEO:39.157173;-78.1233419
X-APPLE-STRUCTURED-LOCATION;VALUE=URI;X-ADDRESS=The Lord’s Chapel 1244 Greenwood Rd. Winchester VA 22602 United States;X-APPLE-RADIUS=500;X-TITLE=1244 Greenwood Rd.:geo:-78.1233419,39.157173
END:VEVENT
BEGIN:VEVENT
DTSTART;TZID=America/New_York:20260426T110000
DTEND;TZID=America/New_York:20260426T123000
DTSTAMP:20260419T194606
CREATED:20200111T195428Z
LAST-MODIFIED:20250513T215735Z
UID:10026350-1777201200-1777206600@www.thelandcelebration.org
SUMMARY:Sunday Gathering
DESCRIPTION:10:45am – 11:00am Meditation Music \n11:00am – 12:30pm Guided Meditation\, Devotional Singing\, Healing Circle with Crystal Bowls\, and Openhearted Inspirational Sharing \n 
URL:https://www.thelandcelebration.org/event/sunday-gathering-2-2023-01-08/
LOCATION:The Lord’s Chapel\, 1244 Greenwood Rd.\, Winchester\, VA\, 22602\, United States
CATEGORIES:The Lord's Chapel
GEO:39.157173;-78.1233419
X-APPLE-STRUCTURED-LOCATION;VALUE=URI;X-ADDRESS=The Lord’s Chapel 1244 Greenwood Rd. Winchester VA 22602 United States;X-APPLE-RADIUS=500;X-TITLE=1244 Greenwood Rd.:geo:-78.1233419,39.157173
END:VEVENT
BEGIN:VEVENT
DTSTART;TZID=America/New_York:20260426T110000
DTEND;TZID=America/New_York:20260426T123000
DTSTAMP:20260419T194606
CREATED:20200111T195428Z
LAST-MODIFIED:20250513T215735Z
UID:10026733-1777201200-1777206600@www.thelandcelebration.org
SUMMARY:Sunday Gathering
DESCRIPTION:10:45am – 11:00am Meditation Music \n11:00am – 12:30pm Guided Meditation\, Devotional Singing\, Healing Circle with Crystal Bowls\, and Openhearted Inspirational Sharing \n 
URL:https://www.thelandcelebration.org/event/sunday-gathering-2-2023-01-15/
LOCATION:The Lord’s Chapel\, 1244 Greenwood Rd.\, Winchester\, VA\, 22602\, United States
CATEGORIES:The Lord's Chapel
GEO:39.157173;-78.1233419
X-APPLE-STRUCTURED-LOCATION;VALUE=URI;X-ADDRESS=The Lord’s Chapel 1244 Greenwood Rd. Winchester VA 22602 United States;X-APPLE-RADIUS=500;X-TITLE=1244 Greenwood Rd.:geo:-78.1233419,39.157173
END:VEVENT
BEGIN:VEVENT
DTSTART;TZID=America/New_York:20260426T110000
DTEND;TZID=America/New_York:20260426T123000
DTSTAMP:20260419T194606
CREATED:20200111T195428Z
LAST-MODIFIED:20250513T215735Z
UID:10027115-1777201200-1777206600@www.thelandcelebration.org
SUMMARY:Sunday Gathering
DESCRIPTION:10:45am – 11:00am Meditation Music \n11:00am – 12:30pm Guided Meditation\, Devotional Singing\, Healing Circle with Crystal Bowls\, and Openhearted Inspirational Sharing \n 
URL:https://www.thelandcelebration.org/event/sunday-gathering-2-2023-01-22/
LOCATION:The Lord’s Chapel\, 1244 Greenwood Rd.\, Winchester\, VA\, 22602\, United States
CATEGORIES:The Lord's Chapel
GEO:39.157173;-78.1233419
X-APPLE-STRUCTURED-LOCATION;VALUE=URI;X-ADDRESS=The Lord’s Chapel 1244 Greenwood Rd. Winchester VA 22602 United States;X-APPLE-RADIUS=500;X-TITLE=1244 Greenwood Rd.:geo:-78.1233419,39.157173
END:VEVENT
BEGIN:VEVENT
DTSTART;TZID=America/New_York:20260426T110000
DTEND;TZID=America/New_York:20260426T123000
DTSTAMP:20260419T194606
CREATED:20200111T195428Z
LAST-MODIFIED:20250513T215736Z
UID:10027496-1777201200-1777206600@www.thelandcelebration.org
SUMMARY:Sunday Gathering
DESCRIPTION:10:45am – 11:00am Meditation Music \n11:00am – 12:30pm Guided Meditation\, Devotional Singing\, Healing Circle with Crystal Bowls\, and Openhearted Inspirational Sharing \n 
URL:https://www.thelandcelebration.org/event/sunday-gathering-2-2023-01-29/
LOCATION:The Lord’s Chapel\, 1244 Greenwood Rd.\, Winchester\, VA\, 22602\, United States
CATEGORIES:The Lord's Chapel
GEO:39.157173;-78.1233419
X-APPLE-STRUCTURED-LOCATION;VALUE=URI;X-ADDRESS=The Lord’s Chapel 1244 Greenwood Rd. Winchester VA 22602 United States;X-APPLE-RADIUS=500;X-TITLE=1244 Greenwood Rd.:geo:-78.1233419,39.157173
END:VEVENT
BEGIN:VEVENT
DTSTART;TZID=America/New_York:20260426T110000
DTEND;TZID=America/New_York:20260426T123000
DTSTAMP:20260419T194606
CREATED:20200111T195428Z
LAST-MODIFIED:20250513T215736Z
UID:10027876-1777201200-1777206600@www.thelandcelebration.org
SUMMARY:Sunday Gathering
DESCRIPTION:10:45am – 11:00am Meditation Music \n11:00am – 12:30pm Guided Meditation\, Devotional Singing\, Healing Circle with Crystal Bowls\, and Openhearted Inspirational Sharing \n 
URL:https://www.thelandcelebration.org/event/sunday-gathering-2-2023-02-05/
LOCATION:The Lord’s Chapel\, 1244 Greenwood Rd.\, Winchester\, VA\, 22602\, United States
CATEGORIES:The Lord's Chapel
GEO:39.157173;-78.1233419
X-APPLE-STRUCTURED-LOCATION;VALUE=URI;X-ADDRESS=The Lord’s Chapel 1244 Greenwood Rd. Winchester VA 22602 United States;X-APPLE-RADIUS=500;X-TITLE=1244 Greenwood Rd.:geo:-78.1233419,39.157173
END:VEVENT
BEGIN:VEVENT
DTSTART;TZID=America/New_York:20260426T110000
DTEND;TZID=America/New_York:20260426T123000
DTSTAMP:20260419T194606
CREATED:20200111T195428Z
LAST-MODIFIED:20250513T215736Z
UID:10028255-1777201200-1777206600@www.thelandcelebration.org
SUMMARY:Sunday Gathering
DESCRIPTION:10:45am – 11:00am Meditation Music \n11:00am – 12:30pm Guided Meditation\, Devotional Singing\, Healing Circle with Crystal Bowls\, and Openhearted Inspirational Sharing \n 
URL:https://www.thelandcelebration.org/event/sunday-gathering-2-2023-02-12/
LOCATION:The Lord’s Chapel\, 1244 Greenwood Rd.\, Winchester\, VA\, 22602\, United States
CATEGORIES:The Lord's Chapel
GEO:39.157173;-78.1233419
X-APPLE-STRUCTURED-LOCATION;VALUE=URI;X-ADDRESS=The Lord’s Chapel 1244 Greenwood Rd. Winchester VA 22602 United States;X-APPLE-RADIUS=500;X-TITLE=1244 Greenwood Rd.:geo:-78.1233419,39.157173
END:VEVENT
BEGIN:VEVENT
DTSTART;TZID=America/New_York:20260426T110000
DTEND;TZID=America/New_York:20260426T123000
DTSTAMP:20260419T194606
CREATED:20200111T195428Z
LAST-MODIFIED:20250513T215736Z
UID:10028633-1777201200-1777206600@www.thelandcelebration.org
SUMMARY:Sunday Gathering
DESCRIPTION:10:45am – 11:00am Meditation Music \n11:00am – 12:30pm Guided Meditation\, Devotional Singing\, Healing Circle with Crystal Bowls\, and Openhearted Inspirational Sharing \n 
URL:https://www.thelandcelebration.org/event/sunday-gathering-2-2023-02-19/
LOCATION:The Lord’s Chapel\, 1244 Greenwood Rd.\, Winchester\, VA\, 22602\, United States
CATEGORIES:The Lord's Chapel
GEO:39.157173;-78.1233419
X-APPLE-STRUCTURED-LOCATION;VALUE=URI;X-ADDRESS=The Lord’s Chapel 1244 Greenwood Rd. Winchester VA 22602 United States;X-APPLE-RADIUS=500;X-TITLE=1244 Greenwood Rd.:geo:-78.1233419,39.157173
END:VEVENT
BEGIN:VEVENT
DTSTART;TZID=America/New_York:20260426T110000
DTEND;TZID=America/New_York:20260426T123000
DTSTAMP:20260419T194606
CREATED:20200111T195428Z
LAST-MODIFIED:20250513T215736Z
UID:10029010-1777201200-1777206600@www.thelandcelebration.org
SUMMARY:Sunday Gathering
DESCRIPTION:10:45am – 11:00am Meditation Music \n11:00am – 12:30pm Guided Meditation\, Devotional Singing\, Healing Circle with Crystal Bowls\, and Openhearted Inspirational Sharing \n 
URL:https://www.thelandcelebration.org/event/sunday-gathering-2-2023-02-26/
LOCATION:The Lord’s Chapel\, 1244 Greenwood Rd.\, Winchester\, VA\, 22602\, United States
CATEGORIES:The Lord's Chapel
GEO:39.157173;-78.1233419
X-APPLE-STRUCTURED-LOCATION;VALUE=URI;X-ADDRESS=The Lord’s Chapel 1244 Greenwood Rd. Winchester VA 22602 United States;X-APPLE-RADIUS=500;X-TITLE=1244 Greenwood Rd.:geo:-78.1233419,39.157173
END:VEVENT
BEGIN:VEVENT
DTSTART;TZID=America/New_York:20260426T110000
DTEND;TZID=America/New_York:20260426T123000
DTSTAMP:20260419T194606
CREATED:20200111T195428Z
LAST-MODIFIED:20250513T215737Z
UID:10029386-1777201200-1777206600@www.thelandcelebration.org
SUMMARY:Sunday Gathering
DESCRIPTION:10:45am – 11:00am Meditation Music \n11:00am – 12:30pm Guided Meditation\, Devotional Singing\, Healing Circle with Crystal Bowls\, and Openhearted Inspirational Sharing \n 
URL:https://www.thelandcelebration.org/event/sunday-gathering-2-2023-03-05/
LOCATION:The Lord’s Chapel\, 1244 Greenwood Rd.\, Winchester\, VA\, 22602\, United States
CATEGORIES:The Lord's Chapel
GEO:39.157173;-78.1233419
X-APPLE-STRUCTURED-LOCATION;VALUE=URI;X-ADDRESS=The Lord’s Chapel 1244 Greenwood Rd. Winchester VA 22602 United States;X-APPLE-RADIUS=500;X-TITLE=1244 Greenwood Rd.:geo:-78.1233419,39.157173
END:VEVENT
BEGIN:VEVENT
DTSTART;TZID=America/New_York:20260426T110000
DTEND;TZID=America/New_York:20260426T123000
DTSTAMP:20260419T194606
CREATED:20200111T195428Z
LAST-MODIFIED:20250513T215737Z
UID:10029761-1777201200-1777206600@www.thelandcelebration.org
SUMMARY:Sunday Gathering
DESCRIPTION:10:45am – 11:00am Meditation Music \n11:00am – 12:30pm Guided Meditation\, Devotional Singing\, Healing Circle with Crystal Bowls\, and Openhearted Inspirational Sharing \n 
URL:https://www.thelandcelebration.org/event/sunday-gathering-2-2023-03-12/
LOCATION:The Lord’s Chapel\, 1244 Greenwood Rd.\, Winchester\, VA\, 22602\, United States
CATEGORIES:The Lord's Chapel
GEO:39.157173;-78.1233419
X-APPLE-STRUCTURED-LOCATION;VALUE=URI;X-ADDRESS=The Lord’s Chapel 1244 Greenwood Rd. Winchester VA 22602 United States;X-APPLE-RADIUS=500;X-TITLE=1244 Greenwood Rd.:geo:-78.1233419,39.157173
END:VEVENT
BEGIN:VEVENT
DTSTART;TZID=America/New_York:20260426T110000
DTEND;TZID=America/New_York:20260426T123000
DTSTAMP:20260419T194606
CREATED:20200111T195428Z
LAST-MODIFIED:20250513T215737Z
UID:10030135-1777201200-1777206600@www.thelandcelebration.org
SUMMARY:Sunday Gathering
DESCRIPTION:10:45am – 11:00am Meditation Music \n11:00am – 12:30pm Guided Meditation\, Devotional Singing\, Healing Circle with Crystal Bowls\, and Openhearted Inspirational Sharing \n 
URL:https://www.thelandcelebration.org/event/sunday-gathering-2-2023-03-19/
LOCATION:The Lord’s Chapel\, 1244 Greenwood Rd.\, Winchester\, VA\, 22602\, United States
CATEGORIES:The Lord's Chapel
GEO:39.157173;-78.1233419
X-APPLE-STRUCTURED-LOCATION;VALUE=URI;X-ADDRESS=The Lord’s Chapel 1244 Greenwood Rd. Winchester VA 22602 United States;X-APPLE-RADIUS=500;X-TITLE=1244 Greenwood Rd.:geo:-78.1233419,39.157173
END:VEVENT
BEGIN:VEVENT
DTSTART;TZID=America/New_York:20260426T110000
DTEND;TZID=America/New_York:20260426T123000
DTSTAMP:20260419T194606
CREATED:20200111T195428Z
LAST-MODIFIED:20250513T215737Z
UID:10030508-1777201200-1777206600@www.thelandcelebration.org
SUMMARY:Sunday Gathering
DESCRIPTION:10:45am – 11:00am Meditation Music \n11:00am – 12:30pm Guided Meditation\, Devotional Singing\, Healing Circle with Crystal Bowls\, and Openhearted Inspirational Sharing \n 
URL:https://www.thelandcelebration.org/event/sunday-gathering-2-2023-03-26/
LOCATION:The Lord’s Chapel\, 1244 Greenwood Rd.\, Winchester\, VA\, 22602\, United States
CATEGORIES:The Lord's Chapel
GEO:39.157173;-78.1233419
X-APPLE-STRUCTURED-LOCATION;VALUE=URI;X-ADDRESS=The Lord’s Chapel 1244 Greenwood Rd. Winchester VA 22602 United States;X-APPLE-RADIUS=500;X-TITLE=1244 Greenwood Rd.:geo:-78.1233419,39.157173
END:VEVENT
BEGIN:VEVENT
DTSTART;TZID=America/New_York:20260426T110000
DTEND;TZID=America/New_York:20260426T123000
DTSTAMP:20260419T194606
CREATED:20200111T195428Z
LAST-MODIFIED:20250513T215737Z
UID:10030880-1777201200-1777206600@www.thelandcelebration.org
SUMMARY:Sunday Gathering
DESCRIPTION:10:45am – 11:00am Meditation Music \n11:00am – 12:30pm Guided Meditation\, Devotional Singing\, Healing Circle with Crystal Bowls\, and Openhearted Inspirational Sharing \n 
URL:https://www.thelandcelebration.org/event/sunday-gathering-2-2023-04-02/
LOCATION:The Lord’s Chapel\, 1244 Greenwood Rd.\, Winchester\, VA\, 22602\, United States
CATEGORIES:The Lord's Chapel
GEO:39.157173;-78.1233419
X-APPLE-STRUCTURED-LOCATION;VALUE=URI;X-ADDRESS=The Lord’s Chapel 1244 Greenwood Rd. Winchester VA 22602 United States;X-APPLE-RADIUS=500;X-TITLE=1244 Greenwood Rd.:geo:-78.1233419,39.157173
END:VEVENT
BEGIN:VEVENT
DTSTART;TZID=America/New_York:20260426T110000
DTEND;TZID=America/New_York:20260426T123000
DTSTAMP:20260419T194606
CREATED:20200111T195428Z
LAST-MODIFIED:20250513T215719Z
UID:10001096-1777201200-1777206600@www.thelandcelebration.org
SUMMARY:Sunday Gathering
DESCRIPTION:10:45am – 11:00am Meditation Music \n11:00am – 12:30pm Guided Meditation\, Devotional Singing\, Healing Circle with Crystal Bowls\, and Openhearted Inspirational Sharing \n 
URL:https://www.thelandcelebration.org/event/sunday-gathering-2-2021-11-07/
LOCATION:The Lord’s Chapel\, 1244 Greenwood Rd.\, Winchester\, VA\, 22602\, United States
CATEGORIES:The Lord's Chapel
GEO:39.157173;-78.1233419
X-APPLE-STRUCTURED-LOCATION;VALUE=URI;X-ADDRESS=The Lord’s Chapel 1244 Greenwood Rd. Winchester VA 22602 United States;X-APPLE-RADIUS=500;X-TITLE=1244 Greenwood Rd.:geo:-78.1233419,39.157173
END:VEVENT
BEGIN:VEVENT
DTSTART;TZID=America/New_York:20260426T110000
DTEND;TZID=America/New_York:20260426T123000
DTSTAMP:20260419T194606
CREATED:20200111T195428Z
LAST-MODIFIED:20250513T215719Z
UID:10001540-1777201200-1777206600@www.thelandcelebration.org
SUMMARY:Sunday Gathering
DESCRIPTION:10:45am – 11:00am Meditation Music \n11:00am – 12:30pm Guided Meditation\, Devotional Singing\, Healing Circle with Crystal Bowls\, and Openhearted Inspirational Sharing \n 
URL:https://www.thelandcelebration.org/event/sunday-gathering-2-2021-11-14/
LOCATION:The Lord’s Chapel\, 1244 Greenwood Rd.\, Winchester\, VA\, 22602\, United States
CATEGORIES:The Lord's Chapel
GEO:39.157173;-78.1233419
X-APPLE-STRUCTURED-LOCATION;VALUE=URI;X-ADDRESS=The Lord’s Chapel 1244 Greenwood Rd. Winchester VA 22602 United States;X-APPLE-RADIUS=500;X-TITLE=1244 Greenwood Rd.:geo:-78.1233419,39.157173
END:VEVENT
BEGIN:VEVENT
DTSTART;TZID=America/New_York:20260426T110000
DTEND;TZID=America/New_York:20260426T123000
DTSTAMP:20260419T194606
CREATED:20200111T195428Z
LAST-MODIFIED:20250513T215719Z
UID:10001983-1777201200-1777206600@www.thelandcelebration.org
SUMMARY:Sunday Gathering
DESCRIPTION:10:45am – 11:00am Meditation Music \n11:00am – 12:30pm Guided Meditation\, Devotional Singing\, Healing Circle with Crystal Bowls\, and Openhearted Inspirational Sharing \n 
URL:https://www.thelandcelebration.org/event/sunday-gathering-2-2021-11-21/
LOCATION:The Lord’s Chapel\, 1244 Greenwood Rd.\, Winchester\, VA\, 22602\, United States
CATEGORIES:The Lord's Chapel
GEO:39.157173;-78.1233419
X-APPLE-STRUCTURED-LOCATION;VALUE=URI;X-ADDRESS=The Lord’s Chapel 1244 Greenwood Rd. Winchester VA 22602 United States;X-APPLE-RADIUS=500;X-TITLE=1244 Greenwood Rd.:geo:-78.1233419,39.157173
END:VEVENT
BEGIN:VEVENT
DTSTART;TZID=America/New_York:20260426T110000
DTEND;TZID=America/New_York:20260426T123000
DTSTAMP:20260419T194606
CREATED:20200111T195428Z
LAST-MODIFIED:20250513T215720Z
UID:10002425-1777201200-1777206600@www.thelandcelebration.org
SUMMARY:Sunday Gathering
DESCRIPTION:10:45am – 11:00am Meditation Music \n11:00am – 12:30pm Guided Meditation\, Devotional Singing\, Healing Circle with Crystal Bowls\, and Openhearted Inspirational Sharing \n 
URL:https://www.thelandcelebration.org/event/sunday-gathering-2-2021-11-28/
LOCATION:The Lord’s Chapel\, 1244 Greenwood Rd.\, Winchester\, VA\, 22602\, United States
CATEGORIES:The Lord's Chapel
GEO:39.157173;-78.1233419
X-APPLE-STRUCTURED-LOCATION;VALUE=URI;X-ADDRESS=The Lord’s Chapel 1244 Greenwood Rd. Winchester VA 22602 United States;X-APPLE-RADIUS=500;X-TITLE=1244 Greenwood Rd.:geo:-78.1233419,39.157173
END:VEVENT
BEGIN:VEVENT
DTSTART;TZID=America/New_York:20260426T110000
DTEND;TZID=America/New_York:20260426T123000
DTSTAMP:20260419T194606
CREATED:20200111T195428Z
LAST-MODIFIED:20250513T215720Z
UID:10002866-1777201200-1777206600@www.thelandcelebration.org
SUMMARY:Sunday Gathering
DESCRIPTION:10:45am – 11:00am Meditation Music \n11:00am – 12:30pm Guided Meditation\, Devotional Singing\, Healing Circle with Crystal Bowls\, and Openhearted Inspirational Sharing \n 
URL:https://www.thelandcelebration.org/event/sunday-gathering-2-2021-12-05/
LOCATION:The Lord’s Chapel\, 1244 Greenwood Rd.\, Winchester\, VA\, 22602\, United States
CATEGORIES:The Lord's Chapel
GEO:39.157173;-78.1233419
X-APPLE-STRUCTURED-LOCATION;VALUE=URI;X-ADDRESS=The Lord’s Chapel 1244 Greenwood Rd. Winchester VA 22602 United States;X-APPLE-RADIUS=500;X-TITLE=1244 Greenwood Rd.:geo:-78.1233419,39.157173
END:VEVENT
BEGIN:VEVENT
DTSTART;TZID=America/New_York:20260426T110000
DTEND;TZID=America/New_York:20260426T123000
DTSTAMP:20260419T194606
CREATED:20200111T195428Z
LAST-MODIFIED:20250513T215721Z
UID:10003306-1777201200-1777206600@www.thelandcelebration.org
SUMMARY:Sunday Gathering
DESCRIPTION:10:45am – 11:00am Meditation Music \n11:00am – 12:30pm Guided Meditation\, Devotional Singing\, Healing Circle with Crystal Bowls\, and Openhearted Inspirational Sharing \n 
URL:https://www.thelandcelebration.org/event/sunday-gathering-2-2021-12-12/
LOCATION:The Lord’s Chapel\, 1244 Greenwood Rd.\, Winchester\, VA\, 22602\, United States
CATEGORIES:The Lord's Chapel
GEO:39.157173;-78.1233419
X-APPLE-STRUCTURED-LOCATION;VALUE=URI;X-ADDRESS=The Lord’s Chapel 1244 Greenwood Rd. Winchester VA 22602 United States;X-APPLE-RADIUS=500;X-TITLE=1244 Greenwood Rd.:geo:-78.1233419,39.157173
END:VEVENT
BEGIN:VEVENT
DTSTART;TZID=America/New_York:20260426T110000
DTEND;TZID=America/New_York:20260426T123000
DTSTAMP:20260419T194606
CREATED:20200111T195428Z
LAST-MODIFIED:20250513T215721Z
UID:10003745-1777201200-1777206600@www.thelandcelebration.org
SUMMARY:Sunday Gathering
DESCRIPTION:10:45am – 11:00am Meditation Music \n11:00am – 12:30pm Guided Meditation\, Devotional Singing\, Healing Circle with Crystal Bowls\, and Openhearted Inspirational Sharing \n 
URL:https://www.thelandcelebration.org/event/sunday-gathering-2-2021-12-19/
LOCATION:The Lord’s Chapel\, 1244 Greenwood Rd.\, Winchester\, VA\, 22602\, United States
CATEGORIES:The Lord's Chapel
GEO:39.157173;-78.1233419
X-APPLE-STRUCTURED-LOCATION;VALUE=URI;X-ADDRESS=The Lord’s Chapel 1244 Greenwood Rd. Winchester VA 22602 United States;X-APPLE-RADIUS=500;X-TITLE=1244 Greenwood Rd.:geo:-78.1233419,39.157173
END:VEVENT
BEGIN:VEVENT
DTSTART;TZID=America/New_York:20260426T110000
DTEND;TZID=America/New_York:20260426T123000
DTSTAMP:20260419T194606
CREATED:20200111T195428Z
LAST-MODIFIED:20250513T215721Z
UID:10004183-1777201200-1777206600@www.thelandcelebration.org
SUMMARY:Sunday Gathering
DESCRIPTION:10:45am – 11:00am Meditation Music \n11:00am – 12:30pm Guided Meditation\, Devotional Singing\, Healing Circle with Crystal Bowls\, and Openhearted Inspirational Sharing \n 
URL:https://www.thelandcelebration.org/event/sunday-gathering-2-2021-12-26/
LOCATION:The Lord’s Chapel\, 1244 Greenwood Rd.\, Winchester\, VA\, 22602\, United States
CATEGORIES:The Lord's Chapel
GEO:39.157173;-78.1233419
X-APPLE-STRUCTURED-LOCATION;VALUE=URI;X-ADDRESS=The Lord’s Chapel 1244 Greenwood Rd. Winchester VA 22602 United States;X-APPLE-RADIUS=500;X-TITLE=1244 Greenwood Rd.:geo:-78.1233419,39.157173
END:VEVENT
BEGIN:VEVENT
DTSTART;TZID=America/New_York:20260426T110000
DTEND;TZID=America/New_York:20260426T123000
DTSTAMP:20260419T194606
CREATED:20200111T195428Z
LAST-MODIFIED:20250513T215722Z
UID:10004620-1777201200-1777206600@www.thelandcelebration.org
SUMMARY:Sunday Gathering
DESCRIPTION:10:45am – 11:00am Meditation Music \n11:00am – 12:30pm Guided Meditation\, Devotional Singing\, Healing Circle with Crystal Bowls\, and Openhearted Inspirational Sharing \n 
URL:https://www.thelandcelebration.org/event/sunday-gathering-2-2022-01-02/
LOCATION:The Lord’s Chapel\, 1244 Greenwood Rd.\, Winchester\, VA\, 22602\, United States
CATEGORIES:The Lord's Chapel
GEO:39.157173;-78.1233419
X-APPLE-STRUCTURED-LOCATION;VALUE=URI;X-ADDRESS=The Lord’s Chapel 1244 Greenwood Rd. Winchester VA 22602 United States;X-APPLE-RADIUS=500;X-TITLE=1244 Greenwood Rd.:geo:-78.1233419,39.157173
END:VEVENT
BEGIN:VEVENT
DTSTART;TZID=America/New_York:20260426T110000
DTEND;TZID=America/New_York:20260426T123000
DTSTAMP:20260419T194606
CREATED:20200111T195428Z
LAST-MODIFIED:20250513T215722Z
UID:10005056-1777201200-1777206600@www.thelandcelebration.org
SUMMARY:Sunday Gathering
DESCRIPTION:10:45am – 11:00am Meditation Music \n11:00am – 12:30pm Guided Meditation\, Devotional Singing\, Healing Circle with Crystal Bowls\, and Openhearted Inspirational Sharing \n 
URL:https://www.thelandcelebration.org/event/sunday-gathering-2-2022-01-09/
LOCATION:The Lord’s Chapel\, 1244 Greenwood Rd.\, Winchester\, VA\, 22602\, United States
CATEGORIES:The Lord's Chapel
GEO:39.157173;-78.1233419
X-APPLE-STRUCTURED-LOCATION;VALUE=URI;X-ADDRESS=The Lord’s Chapel 1244 Greenwood Rd. Winchester VA 22602 United States;X-APPLE-RADIUS=500;X-TITLE=1244 Greenwood Rd.:geo:-78.1233419,39.157173
END:VEVENT
BEGIN:VEVENT
DTSTART;TZID=America/New_York:20260426T110000
DTEND;TZID=America/New_York:20260426T123000
DTSTAMP:20260419T194606
CREATED:20200111T195428Z
LAST-MODIFIED:20250513T215722Z
UID:10005491-1777201200-1777206600@www.thelandcelebration.org
SUMMARY:Sunday Gathering
DESCRIPTION:10:45am – 11:00am Meditation Music \n11:00am – 12:30pm Guided Meditation\, Devotional Singing\, Healing Circle with Crystal Bowls\, and Openhearted Inspirational Sharing \n 
URL:https://www.thelandcelebration.org/event/sunday-gathering-2-2022-01-16/
LOCATION:The Lord’s Chapel\, 1244 Greenwood Rd.\, Winchester\, VA\, 22602\, United States
CATEGORIES:The Lord's Chapel
GEO:39.157173;-78.1233419
X-APPLE-STRUCTURED-LOCATION;VALUE=URI;X-ADDRESS=The Lord’s Chapel 1244 Greenwood Rd. Winchester VA 22602 United States;X-APPLE-RADIUS=500;X-TITLE=1244 Greenwood Rd.:geo:-78.1233419,39.157173
END:VEVENT
BEGIN:VEVENT
DTSTART;TZID=America/New_York:20260426T110000
DTEND;TZID=America/New_York:20260426T123000
DTSTAMP:20260419T194606
CREATED:20200111T195428Z
LAST-MODIFIED:20250513T215722Z
UID:10005925-1777201200-1777206600@www.thelandcelebration.org
SUMMARY:Sunday Gathering
DESCRIPTION:10:45am – 11:00am Meditation Music \n11:00am – 12:30pm Guided Meditation\, Devotional Singing\, Healing Circle with Crystal Bowls\, and Openhearted Inspirational Sharing \n 
URL:https://www.thelandcelebration.org/event/sunday-gathering-2-2022-01-23/
LOCATION:The Lord’s Chapel\, 1244 Greenwood Rd.\, Winchester\, VA\, 22602\, United States
CATEGORIES:The Lord's Chapel
GEO:39.157173;-78.1233419
X-APPLE-STRUCTURED-LOCATION;VALUE=URI;X-ADDRESS=The Lord’s Chapel 1244 Greenwood Rd. Winchester VA 22602 United States;X-APPLE-RADIUS=500;X-TITLE=1244 Greenwood Rd.:geo:-78.1233419,39.157173
END:VEVENT
END:VCALENDAR