BEGIN:VCALENDAR
VERSION:2.0
PRODID:-//The Land Celebration | The Lord&#039;s Chapel - ECPv6.15.20//NONSGML v1.0//EN
CALSCALE:GREGORIAN
METHOD:PUBLISH
X-ORIGINAL-URL:https://www.thelandcelebration.org
X-WR-CALDESC:Events for The Land Celebration | The Lord&#039;s Chapel
REFRESH-INTERVAL;VALUE=DURATION:PT1H
X-Robots-Tag:noindex
X-PUBLISHED-TTL:PT1H
BEGIN:VTIMEZONE
TZID:America/New_York
BEGIN:DAYLIGHT
TZOFFSETFROM:-0500
TZOFFSETTO:-0400
TZNAME:EDT
DTSTART:20250309T070000
END:DAYLIGHT
BEGIN:STANDARD
TZOFFSETFROM:-0400
TZOFFSETTO:-0500
TZNAME:EST
DTSTART:20251102T060000
END:STANDARD
BEGIN:DAYLIGHT
TZOFFSETFROM:-0500
TZOFFSETTO:-0400
TZNAME:EDT
DTSTART:20260308T070000
END:DAYLIGHT
BEGIN:STANDARD
TZOFFSETFROM:-0400
TZOFFSETTO:-0500
TZNAME:EST
DTSTART:20261101T060000
END:STANDARD
BEGIN:DAYLIGHT
TZOFFSETFROM:-0500
TZOFFSETTO:-0400
TZNAME:EDT
DTSTART:20270314T070000
END:DAYLIGHT
BEGIN:STANDARD
TZOFFSETFROM:-0400
TZOFFSETTO:-0500
TZNAME:EST
DTSTART:20271107T060000
END:STANDARD
END:VTIMEZONE
BEGIN:VEVENT
DTSTART;TZID=America/New_York:20260419T110000
DTEND;TZID=America/New_York:20260419T123000
DTSTAMP:20260419T150251
CREATED:20200111T195428Z
LAST-MODIFIED:20250513T222918Z
UID:10042255-1776596400-1776601800@www.thelandcelebration.org
SUMMARY:Sunday Gathering
DESCRIPTION:10:45am – 11:00am Meditation Music \n11:00am – 12:30pm Guided Meditation\, Devotional Singing\, Healing Circle with Crystal Bowls\, and Openhearted Inspirational Sharing \n 
URL:https://www.thelandcelebration.org/event/sunday-gathering-2-2023-11-12/
LOCATION:The Lord’s Chapel\, 1244 Greenwood Rd.\, Winchester\, VA\, 22602\, United States
CATEGORIES:The Lord's Chapel
GEO:39.157173;-78.1233419
X-APPLE-STRUCTURED-LOCATION;VALUE=URI;X-ADDRESS=The Lord’s Chapel 1244 Greenwood Rd. Winchester VA 22602 United States;X-APPLE-RADIUS=500;X-TITLE=1244 Greenwood Rd.:geo:-78.1233419,39.157173
END:VEVENT
BEGIN:VEVENT
DTSTART;TZID=America/New_York:20260419T110000
DTEND;TZID=America/New_York:20260419T123000
DTSTAMP:20260419T150251
CREATED:20200111T195428Z
LAST-MODIFIED:20250513T222919Z
UID:10042594-1776596400-1776601800@www.thelandcelebration.org
SUMMARY:Sunday Gathering
DESCRIPTION:10:45am – 11:00am Meditation Music \n11:00am – 12:30pm Guided Meditation\, Devotional Singing\, Healing Circle with Crystal Bowls\, and Openhearted Inspirational Sharing \n 
URL:https://www.thelandcelebration.org/event/sunday-gathering-2-2023-11-19/
LOCATION:The Lord’s Chapel\, 1244 Greenwood Rd.\, Winchester\, VA\, 22602\, United States
CATEGORIES:The Lord's Chapel
GEO:39.157173;-78.1233419
X-APPLE-STRUCTURED-LOCATION;VALUE=URI;X-ADDRESS=The Lord’s Chapel 1244 Greenwood Rd. Winchester VA 22602 United States;X-APPLE-RADIUS=500;X-TITLE=1244 Greenwood Rd.:geo:-78.1233419,39.157173
END:VEVENT
BEGIN:VEVENT
DTSTART;TZID=America/New_York:20260419T110000
DTEND;TZID=America/New_York:20260419T123000
DTSTAMP:20260419T150251
CREATED:20200111T195428Z
LAST-MODIFIED:20250513T222919Z
UID:10042932-1776596400-1776601800@www.thelandcelebration.org
SUMMARY:Sunday Gathering
DESCRIPTION:10:45am – 11:00am Meditation Music \n11:00am – 12:30pm Guided Meditation\, Devotional Singing\, Healing Circle with Crystal Bowls\, and Openhearted Inspirational Sharing \n 
URL:https://www.thelandcelebration.org/event/sunday-gathering-2-2023-11-26/
LOCATION:The Lord’s Chapel\, 1244 Greenwood Rd.\, Winchester\, VA\, 22602\, United States
CATEGORIES:The Lord's Chapel
GEO:39.157173;-78.1233419
X-APPLE-STRUCTURED-LOCATION;VALUE=URI;X-ADDRESS=The Lord’s Chapel 1244 Greenwood Rd. Winchester VA 22602 United States;X-APPLE-RADIUS=500;X-TITLE=1244 Greenwood Rd.:geo:-78.1233419,39.157173
END:VEVENT
BEGIN:VEVENT
DTSTART;TZID=America/New_York:20260419T110000
DTEND;TZID=America/New_York:20260419T123000
DTSTAMP:20260419T150251
CREATED:20200111T195428Z
LAST-MODIFIED:20250513T222919Z
UID:10043269-1776596400-1776601800@www.thelandcelebration.org
SUMMARY:Sunday Gathering
DESCRIPTION:10:45am – 11:00am Meditation Music \n11:00am – 12:30pm Guided Meditation\, Devotional Singing\, Healing Circle with Crystal Bowls\, and Openhearted Inspirational Sharing \n 
URL:https://www.thelandcelebration.org/event/sunday-gathering-2-2023-12-03/
LOCATION:The Lord’s Chapel\, 1244 Greenwood Rd.\, Winchester\, VA\, 22602\, United States
CATEGORIES:The Lord's Chapel
GEO:39.157173;-78.1233419
X-APPLE-STRUCTURED-LOCATION;VALUE=URI;X-ADDRESS=The Lord’s Chapel 1244 Greenwood Rd. Winchester VA 22602 United States;X-APPLE-RADIUS=500;X-TITLE=1244 Greenwood Rd.:geo:-78.1233419,39.157173
END:VEVENT
BEGIN:VEVENT
DTSTART;TZID=America/New_York:20260419T110000
DTEND;TZID=America/New_York:20260419T123000
DTSTAMP:20260419T150251
CREATED:20200111T195428Z
LAST-MODIFIED:20250513T222919Z
UID:10043605-1776596400-1776601800@www.thelandcelebration.org
SUMMARY:Sunday Gathering
DESCRIPTION:10:45am – 11:00am Meditation Music \n11:00am – 12:30pm Guided Meditation\, Devotional Singing\, Healing Circle with Crystal Bowls\, and Openhearted Inspirational Sharing \n 
URL:https://www.thelandcelebration.org/event/sunday-gathering-2-2023-12-10/
LOCATION:The Lord’s Chapel\, 1244 Greenwood Rd.\, Winchester\, VA\, 22602\, United States
CATEGORIES:The Lord's Chapel
GEO:39.157173;-78.1233419
X-APPLE-STRUCTURED-LOCATION;VALUE=URI;X-ADDRESS=The Lord’s Chapel 1244 Greenwood Rd. Winchester VA 22602 United States;X-APPLE-RADIUS=500;X-TITLE=1244 Greenwood Rd.:geo:-78.1233419,39.157173
END:VEVENT
BEGIN:VEVENT
DTSTART;TZID=America/New_York:20260419T110000
DTEND;TZID=America/New_York:20260419T123000
DTSTAMP:20260419T150251
CREATED:20200111T195428Z
LAST-MODIFIED:20250513T222920Z
UID:10043940-1776596400-1776601800@www.thelandcelebration.org
SUMMARY:Sunday Gathering
DESCRIPTION:10:45am – 11:00am Meditation Music \n11:00am – 12:30pm Guided Meditation\, Devotional Singing\, Healing Circle with Crystal Bowls\, and Openhearted Inspirational Sharing \n 
URL:https://www.thelandcelebration.org/event/sunday-gathering-2-2023-12-17/
LOCATION:The Lord’s Chapel\, 1244 Greenwood Rd.\, Winchester\, VA\, 22602\, United States
CATEGORIES:The Lord's Chapel
GEO:39.157173;-78.1233419
X-APPLE-STRUCTURED-LOCATION;VALUE=URI;X-ADDRESS=The Lord’s Chapel 1244 Greenwood Rd. Winchester VA 22602 United States;X-APPLE-RADIUS=500;X-TITLE=1244 Greenwood Rd.:geo:-78.1233419,39.157173
END:VEVENT
BEGIN:VEVENT
DTSTART;TZID=America/New_York:20260419T110000
DTEND;TZID=America/New_York:20260419T123000
DTSTAMP:20260419T150251
CREATED:20200111T195428Z
LAST-MODIFIED:20250513T222920Z
UID:10044274-1776596400-1776601800@www.thelandcelebration.org
SUMMARY:Sunday Gathering
DESCRIPTION:10:45am – 11:00am Meditation Music \n11:00am – 12:30pm Guided Meditation\, Devotional Singing\, Healing Circle with Crystal Bowls\, and Openhearted Inspirational Sharing \n 
URL:https://www.thelandcelebration.org/event/sunday-gathering-2-2023-12-24/
LOCATION:The Lord’s Chapel\, 1244 Greenwood Rd.\, Winchester\, VA\, 22602\, United States
CATEGORIES:The Lord's Chapel
GEO:39.157173;-78.1233419
X-APPLE-STRUCTURED-LOCATION;VALUE=URI;X-ADDRESS=The Lord’s Chapel 1244 Greenwood Rd. Winchester VA 22602 United States;X-APPLE-RADIUS=500;X-TITLE=1244 Greenwood Rd.:geo:-78.1233419,39.157173
END:VEVENT
BEGIN:VEVENT
DTSTART;TZID=America/New_York:20260419T110000
DTEND;TZID=America/New_York:20260419T123000
DTSTAMP:20260419T150251
CREATED:20200111T195428Z
LAST-MODIFIED:20250513T222920Z
UID:10044607-1776596400-1776601800@www.thelandcelebration.org
SUMMARY:Sunday Gathering
DESCRIPTION:10:45am – 11:00am Meditation Music \n11:00am – 12:30pm Guided Meditation\, Devotional Singing\, Healing Circle with Crystal Bowls\, and Openhearted Inspirational Sharing \n 
URL:https://www.thelandcelebration.org/event/sunday-gathering-2-2023-12-31/
LOCATION:The Lord’s Chapel\, 1244 Greenwood Rd.\, Winchester\, VA\, 22602\, United States
CATEGORIES:The Lord's Chapel
GEO:39.157173;-78.1233419
X-APPLE-STRUCTURED-LOCATION;VALUE=URI;X-ADDRESS=The Lord’s Chapel 1244 Greenwood Rd. Winchester VA 22602 United States;X-APPLE-RADIUS=500;X-TITLE=1244 Greenwood Rd.:geo:-78.1233419,39.157173
END:VEVENT
BEGIN:VEVENT
DTSTART;TZID=America/New_York:20260419T110000
DTEND;TZID=America/New_York:20260419T123000
DTSTAMP:20260419T150251
CREATED:20200111T195428Z
LAST-MODIFIED:20250513T222920Z
UID:10044939-1776596400-1776601800@www.thelandcelebration.org
SUMMARY:Sunday Gathering
DESCRIPTION:10:45am – 11:00am Meditation Music \n11:00am – 12:30pm Guided Meditation\, Devotional Singing\, Healing Circle with Crystal Bowls\, and Openhearted Inspirational Sharing \n 
URL:https://www.thelandcelebration.org/event/sunday-gathering-2-2024-01-07/
LOCATION:The Lord’s Chapel\, 1244 Greenwood Rd.\, Winchester\, VA\, 22602\, United States
CATEGORIES:The Lord's Chapel
GEO:39.157173;-78.1233419
X-APPLE-STRUCTURED-LOCATION;VALUE=URI;X-ADDRESS=The Lord’s Chapel 1244 Greenwood Rd. Winchester VA 22602 United States;X-APPLE-RADIUS=500;X-TITLE=1244 Greenwood Rd.:geo:-78.1233419,39.157173
END:VEVENT
BEGIN:VEVENT
DTSTART;TZID=America/New_York:20260419T110000
DTEND;TZID=America/New_York:20260419T123000
DTSTAMP:20260419T150251
CREATED:20200111T195428Z
LAST-MODIFIED:20250513T222920Z
UID:10045270-1776596400-1776601800@www.thelandcelebration.org
SUMMARY:Sunday Gathering
DESCRIPTION:10:45am – 11:00am Meditation Music \n11:00am – 12:30pm Guided Meditation\, Devotional Singing\, Healing Circle with Crystal Bowls\, and Openhearted Inspirational Sharing \n 
URL:https://www.thelandcelebration.org/event/sunday-gathering-2-2024-01-14/
LOCATION:The Lord’s Chapel\, 1244 Greenwood Rd.\, Winchester\, VA\, 22602\, United States
CATEGORIES:The Lord's Chapel
GEO:39.157173;-78.1233419
X-APPLE-STRUCTURED-LOCATION;VALUE=URI;X-ADDRESS=The Lord’s Chapel 1244 Greenwood Rd. Winchester VA 22602 United States;X-APPLE-RADIUS=500;X-TITLE=1244 Greenwood Rd.:geo:-78.1233419,39.157173
END:VEVENT
BEGIN:VEVENT
DTSTART;TZID=America/New_York:20260419T110000
DTEND;TZID=America/New_York:20260419T123000
DTSTAMP:20260419T150251
CREATED:20200111T195428Z
LAST-MODIFIED:20250513T222921Z
UID:10045600-1776596400-1776601800@www.thelandcelebration.org
SUMMARY:Sunday Gathering
DESCRIPTION:10:45am – 11:00am Meditation Music \n11:00am – 12:30pm Guided Meditation\, Devotional Singing\, Healing Circle with Crystal Bowls\, and Openhearted Inspirational Sharing \n 
URL:https://www.thelandcelebration.org/event/sunday-gathering-2-2024-01-21/
LOCATION:The Lord’s Chapel\, 1244 Greenwood Rd.\, Winchester\, VA\, 22602\, United States
CATEGORIES:The Lord's Chapel
GEO:39.157173;-78.1233419
X-APPLE-STRUCTURED-LOCATION;VALUE=URI;X-ADDRESS=The Lord’s Chapel 1244 Greenwood Rd. Winchester VA 22602 United States;X-APPLE-RADIUS=500;X-TITLE=1244 Greenwood Rd.:geo:-78.1233419,39.157173
END:VEVENT
BEGIN:VEVENT
DTSTART;TZID=America/New_York:20260419T110000
DTEND;TZID=America/New_York:20260419T123000
DTSTAMP:20260419T150251
CREATED:20200111T195428Z
LAST-MODIFIED:20250514T001033Z
UID:10045929-1776596400-1776601800@www.thelandcelebration.org
SUMMARY:Sunday Gathering
DESCRIPTION:10:45am – 11:00am Meditation Music \n11:00am – 12:30pm Guided Meditation\, Devotional Singing\, Healing Circle with Crystal Bowls\, and Openhearted Inspirational Sharing \n 
URL:https://www.thelandcelebration.org/event/sunday-gathering-2-2024-01-28/
LOCATION:The Lord’s Chapel\, 1244 Greenwood Rd.\, Winchester\, VA\, 22602\, United States
CATEGORIES:The Lord's Chapel
GEO:39.157173;-78.1233419
X-APPLE-STRUCTURED-LOCATION;VALUE=URI;X-ADDRESS=The Lord’s Chapel 1244 Greenwood Rd. Winchester VA 22602 United States;X-APPLE-RADIUS=500;X-TITLE=1244 Greenwood Rd.:geo:-78.1233419,39.157173
END:VEVENT
BEGIN:VEVENT
DTSTART;TZID=America/New_York:20260419T110000
DTEND;TZID=America/New_York:20260419T123000
DTSTAMP:20260419T150251
CREATED:20200111T195428Z
LAST-MODIFIED:20250514T001038Z
UID:10046257-1776596400-1776601800@www.thelandcelebration.org
SUMMARY:Sunday Gathering
DESCRIPTION:10:45am – 11:00am Meditation Music \n11:00am – 12:30pm Guided Meditation\, Devotional Singing\, Healing Circle with Crystal Bowls\, and Openhearted Inspirational Sharing \n 
URL:https://www.thelandcelebration.org/event/sunday-gathering-2-2024-02-04/
LOCATION:The Lord’s Chapel\, 1244 Greenwood Rd.\, Winchester\, VA\, 22602\, United States
CATEGORIES:The Lord's Chapel
GEO:39.157173;-78.1233419
X-APPLE-STRUCTURED-LOCATION;VALUE=URI;X-ADDRESS=The Lord’s Chapel 1244 Greenwood Rd. Winchester VA 22602 United States;X-APPLE-RADIUS=500;X-TITLE=1244 Greenwood Rd.:geo:-78.1233419,39.157173
END:VEVENT
BEGIN:VEVENT
DTSTART;TZID=America/New_York:20260419T110000
DTEND;TZID=America/New_York:20260419T123000
DTSTAMP:20260419T150251
CREATED:20200111T195428Z
LAST-MODIFIED:20250514T001044Z
UID:10046584-1776596400-1776601800@www.thelandcelebration.org
SUMMARY:Sunday Gathering
DESCRIPTION:10:45am – 11:00am Meditation Music \n11:00am – 12:30pm Guided Meditation\, Devotional Singing\, Healing Circle with Crystal Bowls\, and Openhearted Inspirational Sharing \n 
URL:https://www.thelandcelebration.org/event/sunday-gathering-2-2024-02-11/
LOCATION:The Lord’s Chapel\, 1244 Greenwood Rd.\, Winchester\, VA\, 22602\, United States
CATEGORIES:The Lord's Chapel
GEO:39.157173;-78.1233419
X-APPLE-STRUCTURED-LOCATION;VALUE=URI;X-ADDRESS=The Lord’s Chapel 1244 Greenwood Rd. Winchester VA 22602 United States;X-APPLE-RADIUS=500;X-TITLE=1244 Greenwood Rd.:geo:-78.1233419,39.157173
END:VEVENT
BEGIN:VEVENT
DTSTART;TZID=America/New_York:20260419T110000
DTEND;TZID=America/New_York:20260419T123000
DTSTAMP:20260419T150251
CREATED:20200111T195428Z
LAST-MODIFIED:20250514T001048Z
UID:10046910-1776596400-1776601800@www.thelandcelebration.org
SUMMARY:Sunday Gathering
DESCRIPTION:10:45am – 11:00am Meditation Music \n11:00am – 12:30pm Guided Meditation\, Devotional Singing\, Healing Circle with Crystal Bowls\, and Openhearted Inspirational Sharing \n 
URL:https://www.thelandcelebration.org/event/sunday-gathering-2-2024-02-18/
LOCATION:The Lord’s Chapel\, 1244 Greenwood Rd.\, Winchester\, VA\, 22602\, United States
CATEGORIES:The Lord's Chapel
GEO:39.157173;-78.1233419
X-APPLE-STRUCTURED-LOCATION;VALUE=URI;X-ADDRESS=The Lord’s Chapel 1244 Greenwood Rd. Winchester VA 22602 United States;X-APPLE-RADIUS=500;X-TITLE=1244 Greenwood Rd.:geo:-78.1233419,39.157173
END:VEVENT
BEGIN:VEVENT
DTSTART;TZID=America/New_York:20260419T110000
DTEND;TZID=America/New_York:20260419T123000
DTSTAMP:20260419T150251
CREATED:20200111T195428Z
LAST-MODIFIED:20250514T004651Z
UID:10047235-1776596400-1776601800@www.thelandcelebration.org
SUMMARY:Sunday Gathering
DESCRIPTION:10:45am – 11:00am Meditation Music \n11:00am – 12:30pm Guided Meditation\, Devotional Singing\, Healing Circle with Crystal Bowls\, and Openhearted Inspirational Sharing \n 
URL:https://www.thelandcelebration.org/event/sunday-gathering-2-2024-02-25/
LOCATION:The Lord’s Chapel\, 1244 Greenwood Rd.\, Winchester\, VA\, 22602\, United States
CATEGORIES:The Lord's Chapel
GEO:39.157173;-78.1233419
X-APPLE-STRUCTURED-LOCATION;VALUE=URI;X-ADDRESS=The Lord’s Chapel 1244 Greenwood Rd. Winchester VA 22602 United States;X-APPLE-RADIUS=500;X-TITLE=1244 Greenwood Rd.:geo:-78.1233419,39.157173
END:VEVENT
BEGIN:VEVENT
DTSTART;TZID=America/New_York:20260419T110000
DTEND;TZID=America/New_York:20260419T123000
DTSTAMP:20260419T150251
CREATED:20200111T195428Z
LAST-MODIFIED:20250514T004658Z
UID:10047559-1776596400-1776601800@www.thelandcelebration.org
SUMMARY:Sunday Gathering
DESCRIPTION:10:45am – 11:00am Meditation Music \n11:00am – 12:30pm Guided Meditation\, Devotional Singing\, Healing Circle with Crystal Bowls\, and Openhearted Inspirational Sharing \n 
URL:https://www.thelandcelebration.org/event/sunday-gathering-2-2024-03-03/
LOCATION:The Lord’s Chapel\, 1244 Greenwood Rd.\, Winchester\, VA\, 22602\, United States
CATEGORIES:The Lord's Chapel
GEO:39.157173;-78.1233419
X-APPLE-STRUCTURED-LOCATION;VALUE=URI;X-ADDRESS=The Lord’s Chapel 1244 Greenwood Rd. Winchester VA 22602 United States;X-APPLE-RADIUS=500;X-TITLE=1244 Greenwood Rd.:geo:-78.1233419,39.157173
END:VEVENT
BEGIN:VEVENT
DTSTART;TZID=America/New_York:20260419T110000
DTEND;TZID=America/New_York:20260419T123000
DTSTAMP:20260419T150251
CREATED:20200111T195428Z
LAST-MODIFIED:20250514T004703Z
UID:10047882-1776596400-1776601800@www.thelandcelebration.org
SUMMARY:Sunday Gathering
DESCRIPTION:10:45am – 11:00am Meditation Music \n11:00am – 12:30pm Guided Meditation\, Devotional Singing\, Healing Circle with Crystal Bowls\, and Openhearted Inspirational Sharing \n 
URL:https://www.thelandcelebration.org/event/sunday-gathering-2-2024-03-10/
LOCATION:The Lord’s Chapel\, 1244 Greenwood Rd.\, Winchester\, VA\, 22602\, United States
CATEGORIES:The Lord's Chapel
GEO:39.157173;-78.1233419
X-APPLE-STRUCTURED-LOCATION;VALUE=URI;X-ADDRESS=The Lord’s Chapel 1244 Greenwood Rd. Winchester VA 22602 United States;X-APPLE-RADIUS=500;X-TITLE=1244 Greenwood Rd.:geo:-78.1233419,39.157173
END:VEVENT
BEGIN:VEVENT
DTSTART;TZID=America/New_York:20260419T110000
DTEND;TZID=America/New_York:20260419T123000
DTSTAMP:20260419T150251
CREATED:20200111T195428Z
LAST-MODIFIED:20250514T004709Z
UID:10048204-1776596400-1776601800@www.thelandcelebration.org
SUMMARY:Sunday Gathering
DESCRIPTION:10:45am – 11:00am Meditation Music \n11:00am – 12:30pm Guided Meditation\, Devotional Singing\, Healing Circle with Crystal Bowls\, and Openhearted Inspirational Sharing \n 
URL:https://www.thelandcelebration.org/event/sunday-gathering-2-2024-03-17/
LOCATION:The Lord’s Chapel\, 1244 Greenwood Rd.\, Winchester\, VA\, 22602\, United States
CATEGORIES:The Lord's Chapel
GEO:39.157173;-78.1233419
X-APPLE-STRUCTURED-LOCATION;VALUE=URI;X-ADDRESS=The Lord’s Chapel 1244 Greenwood Rd. Winchester VA 22602 United States;X-APPLE-RADIUS=500;X-TITLE=1244 Greenwood Rd.:geo:-78.1233419,39.157173
END:VEVENT
BEGIN:VEVENT
DTSTART;TZID=America/New_York:20260419T110000
DTEND;TZID=America/New_York:20260419T123000
DTSTAMP:20260419T150251
CREATED:20200111T195428Z
LAST-MODIFIED:20250514T131025Z
UID:10048525-1776596400-1776601800@www.thelandcelebration.org
SUMMARY:Sunday Gathering
DESCRIPTION:10:45am – 11:00am Meditation Music \n11:00am – 12:30pm Guided Meditation\, Devotional Singing\, Healing Circle with Crystal Bowls\, and Openhearted Inspirational Sharing \n 
URL:https://www.thelandcelebration.org/event/sunday-gathering-2-2024-03-24/
LOCATION:The Lord’s Chapel\, 1244 Greenwood Rd.\, Winchester\, VA\, 22602\, United States
CATEGORIES:The Lord's Chapel
GEO:39.157173;-78.1233419
X-APPLE-STRUCTURED-LOCATION;VALUE=URI;X-ADDRESS=The Lord’s Chapel 1244 Greenwood Rd. Winchester VA 22602 United States;X-APPLE-RADIUS=500;X-TITLE=1244 Greenwood Rd.:geo:-78.1233419,39.157173
END:VEVENT
BEGIN:VEVENT
DTSTART;TZID=America/New_York:20260419T110000
DTEND;TZID=America/New_York:20260419T123000
DTSTAMP:20260419T150251
CREATED:20200111T195428Z
LAST-MODIFIED:20250514T131025Z
UID:10048845-1776596400-1776601800@www.thelandcelebration.org
SUMMARY:Sunday Gathering
DESCRIPTION:10:45am – 11:00am Meditation Music \n11:00am – 12:30pm Guided Meditation\, Devotional Singing\, Healing Circle with Crystal Bowls\, and Openhearted Inspirational Sharing \n 
URL:https://www.thelandcelebration.org/event/sunday-gathering-2-2024-03-31/
LOCATION:The Lord’s Chapel\, 1244 Greenwood Rd.\, Winchester\, VA\, 22602\, United States
CATEGORIES:The Lord's Chapel
GEO:39.157173;-78.1233419
X-APPLE-STRUCTURED-LOCATION;VALUE=URI;X-ADDRESS=The Lord’s Chapel 1244 Greenwood Rd. Winchester VA 22602 United States;X-APPLE-RADIUS=500;X-TITLE=1244 Greenwood Rd.:geo:-78.1233419,39.157173
END:VEVENT
BEGIN:VEVENT
DTSTART;TZID=America/New_York:20260419T110000
DTEND;TZID=America/New_York:20260419T123000
DTSTAMP:20260419T150251
CREATED:20200111T195428Z
LAST-MODIFIED:20250514T131026Z
UID:10049164-1776596400-1776601800@www.thelandcelebration.org
SUMMARY:Sunday Gathering
DESCRIPTION:10:45am – 11:00am Meditation Music \n11:00am – 12:30pm Guided Meditation\, Devotional Singing\, Healing Circle with Crystal Bowls\, and Openhearted Inspirational Sharing \n 
URL:https://www.thelandcelebration.org/event/sunday-gathering-2-2024-04-07/
LOCATION:The Lord’s Chapel\, 1244 Greenwood Rd.\, Winchester\, VA\, 22602\, United States
CATEGORIES:The Lord's Chapel
GEO:39.157173;-78.1233419
X-APPLE-STRUCTURED-LOCATION;VALUE=URI;X-ADDRESS=The Lord’s Chapel 1244 Greenwood Rd. Winchester VA 22602 United States;X-APPLE-RADIUS=500;X-TITLE=1244 Greenwood Rd.:geo:-78.1233419,39.157173
END:VEVENT
BEGIN:VEVENT
DTSTART;TZID=America/New_York:20260419T110000
DTEND;TZID=America/New_York:20260419T123000
DTSTAMP:20260419T150251
CREATED:20200111T195428Z
LAST-MODIFIED:20250514T131026Z
UID:10049482-1776596400-1776601800@www.thelandcelebration.org
SUMMARY:Sunday Gathering
DESCRIPTION:10:45am – 11:00am Meditation Music \n11:00am – 12:30pm Guided Meditation\, Devotional Singing\, Healing Circle with Crystal Bowls\, and Openhearted Inspirational Sharing \n 
URL:https://www.thelandcelebration.org/event/sunday-gathering-2-2024-04-14/
LOCATION:The Lord’s Chapel\, 1244 Greenwood Rd.\, Winchester\, VA\, 22602\, United States
CATEGORIES:The Lord's Chapel
GEO:39.157173;-78.1233419
X-APPLE-STRUCTURED-LOCATION;VALUE=URI;X-ADDRESS=The Lord’s Chapel 1244 Greenwood Rd. Winchester VA 22602 United States;X-APPLE-RADIUS=500;X-TITLE=1244 Greenwood Rd.:geo:-78.1233419,39.157173
END:VEVENT
BEGIN:VEVENT
DTSTART;TZID=America/New_York:20260419T110000
DTEND;TZID=America/New_York:20260419T123000
DTSTAMP:20260419T150251
CREATED:20200111T195428Z
LAST-MODIFIED:20250513T215734Z
UID:10024419-1776596400-1776601800@www.thelandcelebration.org
SUMMARY:Sunday Gathering
DESCRIPTION:10:45am – 11:00am Meditation Music \n11:00am – 12:30pm Guided Meditation\, Devotional Singing\, Healing Circle with Crystal Bowls\, and Openhearted Inspirational Sharing \n 
URL:https://www.thelandcelebration.org/event/sunday-gathering-2-2022-12-04/
LOCATION:The Lord’s Chapel\, 1244 Greenwood Rd.\, Winchester\, VA\, 22602\, United States
CATEGORIES:The Lord's Chapel
GEO:39.157173;-78.1233419
X-APPLE-STRUCTURED-LOCATION;VALUE=URI;X-ADDRESS=The Lord’s Chapel 1244 Greenwood Rd. Winchester VA 22602 United States;X-APPLE-RADIUS=500;X-TITLE=1244 Greenwood Rd.:geo:-78.1233419,39.157173
END:VEVENT
BEGIN:VEVENT
DTSTART;TZID=America/New_York:20260419T110000
DTEND;TZID=America/New_York:20260419T123000
DTSTAMP:20260419T150251
CREATED:20200111T195428Z
LAST-MODIFIED:20250513T215734Z
UID:10024807-1776596400-1776601800@www.thelandcelebration.org
SUMMARY:Sunday Gathering
DESCRIPTION:10:45am – 11:00am Meditation Music \n11:00am – 12:30pm Guided Meditation\, Devotional Singing\, Healing Circle with Crystal Bowls\, and Openhearted Inspirational Sharing \n 
URL:https://www.thelandcelebration.org/event/sunday-gathering-2-2022-12-11/
LOCATION:The Lord’s Chapel\, 1244 Greenwood Rd.\, Winchester\, VA\, 22602\, United States
CATEGORIES:The Lord's Chapel
GEO:39.157173;-78.1233419
X-APPLE-STRUCTURED-LOCATION;VALUE=URI;X-ADDRESS=The Lord’s Chapel 1244 Greenwood Rd. Winchester VA 22602 United States;X-APPLE-RADIUS=500;X-TITLE=1244 Greenwood Rd.:geo:-78.1233419,39.157173
END:VEVENT
BEGIN:VEVENT
DTSTART;TZID=America/New_York:20260419T110000
DTEND;TZID=America/New_York:20260419T123000
DTSTAMP:20260419T150251
CREATED:20200111T195428Z
LAST-MODIFIED:20250513T215734Z
UID:10025194-1776596400-1776601800@www.thelandcelebration.org
SUMMARY:Sunday Gathering
DESCRIPTION:10:45am – 11:00am Meditation Music \n11:00am – 12:30pm Guided Meditation\, Devotional Singing\, Healing Circle with Crystal Bowls\, and Openhearted Inspirational Sharing \n 
URL:https://www.thelandcelebration.org/event/sunday-gathering-2-2022-12-18/
LOCATION:The Lord’s Chapel\, 1244 Greenwood Rd.\, Winchester\, VA\, 22602\, United States
CATEGORIES:The Lord's Chapel
GEO:39.157173;-78.1233419
X-APPLE-STRUCTURED-LOCATION;VALUE=URI;X-ADDRESS=The Lord’s Chapel 1244 Greenwood Rd. Winchester VA 22602 United States;X-APPLE-RADIUS=500;X-TITLE=1244 Greenwood Rd.:geo:-78.1233419,39.157173
END:VEVENT
BEGIN:VEVENT
DTSTART;TZID=America/New_York:20260419T110000
DTEND;TZID=America/New_York:20260419T123000
DTSTAMP:20260419T150251
CREATED:20200111T195428Z
LAST-MODIFIED:20250513T215734Z
UID:10025580-1776596400-1776601800@www.thelandcelebration.org
SUMMARY:Sunday Gathering
DESCRIPTION:10:45am – 11:00am Meditation Music \n11:00am – 12:30pm Guided Meditation\, Devotional Singing\, Healing Circle with Crystal Bowls\, and Openhearted Inspirational Sharing \n 
URL:https://www.thelandcelebration.org/event/sunday-gathering-2-2022-12-25/
LOCATION:The Lord’s Chapel\, 1244 Greenwood Rd.\, Winchester\, VA\, 22602\, United States
CATEGORIES:The Lord's Chapel
GEO:39.157173;-78.1233419
X-APPLE-STRUCTURED-LOCATION;VALUE=URI;X-ADDRESS=The Lord’s Chapel 1244 Greenwood Rd. Winchester VA 22602 United States;X-APPLE-RADIUS=500;X-TITLE=1244 Greenwood Rd.:geo:-78.1233419,39.157173
END:VEVENT
BEGIN:VEVENT
DTSTART;TZID=America/New_York:20260419T110000
DTEND;TZID=America/New_York:20260419T123000
DTSTAMP:20260419T150251
CREATED:20200111T195428Z
LAST-MODIFIED:20250513T215735Z
UID:10025965-1776596400-1776601800@www.thelandcelebration.org
SUMMARY:Sunday Gathering
DESCRIPTION:10:45am – 11:00am Meditation Music \n11:00am – 12:30pm Guided Meditation\, Devotional Singing\, Healing Circle with Crystal Bowls\, and Openhearted Inspirational Sharing \n 
URL:https://www.thelandcelebration.org/event/sunday-gathering-2-2023-01-01/
LOCATION:The Lord’s Chapel\, 1244 Greenwood Rd.\, Winchester\, VA\, 22602\, United States
CATEGORIES:The Lord's Chapel
GEO:39.157173;-78.1233419
X-APPLE-STRUCTURED-LOCATION;VALUE=URI;X-ADDRESS=The Lord’s Chapel 1244 Greenwood Rd. Winchester VA 22602 United States;X-APPLE-RADIUS=500;X-TITLE=1244 Greenwood Rd.:geo:-78.1233419,39.157173
END:VEVENT
BEGIN:VEVENT
DTSTART;TZID=America/New_York:20260419T110000
DTEND;TZID=America/New_York:20260419T123000
DTSTAMP:20260419T150251
CREATED:20200111T195428Z
LAST-MODIFIED:20250513T215735Z
UID:10026349-1776596400-1776601800@www.thelandcelebration.org
SUMMARY:Sunday Gathering
DESCRIPTION:10:45am – 11:00am Meditation Music \n11:00am – 12:30pm Guided Meditation\, Devotional Singing\, Healing Circle with Crystal Bowls\, and Openhearted Inspirational Sharing \n 
URL:https://www.thelandcelebration.org/event/sunday-gathering-2-2023-01-08/
LOCATION:The Lord’s Chapel\, 1244 Greenwood Rd.\, Winchester\, VA\, 22602\, United States
CATEGORIES:The Lord's Chapel
GEO:39.157173;-78.1233419
X-APPLE-STRUCTURED-LOCATION;VALUE=URI;X-ADDRESS=The Lord’s Chapel 1244 Greenwood Rd. Winchester VA 22602 United States;X-APPLE-RADIUS=500;X-TITLE=1244 Greenwood Rd.:geo:-78.1233419,39.157173
END:VEVENT
BEGIN:VEVENT
DTSTART;TZID=America/New_York:20260419T110000
DTEND;TZID=America/New_York:20260419T123000
DTSTAMP:20260419T150251
CREATED:20200111T195428Z
LAST-MODIFIED:20250513T215735Z
UID:10026732-1776596400-1776601800@www.thelandcelebration.org
SUMMARY:Sunday Gathering
DESCRIPTION:10:45am – 11:00am Meditation Music \n11:00am – 12:30pm Guided Meditation\, Devotional Singing\, Healing Circle with Crystal Bowls\, and Openhearted Inspirational Sharing \n 
URL:https://www.thelandcelebration.org/event/sunday-gathering-2-2023-01-15/
LOCATION:The Lord’s Chapel\, 1244 Greenwood Rd.\, Winchester\, VA\, 22602\, United States
CATEGORIES:The Lord's Chapel
GEO:39.157173;-78.1233419
X-APPLE-STRUCTURED-LOCATION;VALUE=URI;X-ADDRESS=The Lord’s Chapel 1244 Greenwood Rd. Winchester VA 22602 United States;X-APPLE-RADIUS=500;X-TITLE=1244 Greenwood Rd.:geo:-78.1233419,39.157173
END:VEVENT
END:VCALENDAR