BEGIN:VCALENDAR
VERSION:2.0
PRODID:-//The Land Celebration | The Lord&#039;s Chapel - ECPv6.15.20//NONSGML v1.0//EN
CALSCALE:GREGORIAN
METHOD:PUBLISH
X-WR-CALNAME:The Land Celebration | The Lord&#039;s Chapel
X-ORIGINAL-URL:https://www.thelandcelebration.org
X-WR-CALDESC:Events for The Land Celebration | The Lord&#039;s Chapel
REFRESH-INTERVAL;VALUE=DURATION:PT1H
X-Robots-Tag:noindex
X-PUBLISHED-TTL:PT1H
BEGIN:VTIMEZONE
TZID:America/New_York
BEGIN:DAYLIGHT
TZOFFSETFROM:-0500
TZOFFSETTO:-0400
TZNAME:EDT
DTSTART:20230312T070000
END:DAYLIGHT
BEGIN:STANDARD
TZOFFSETFROM:-0400
TZOFFSETTO:-0500
TZNAME:EST
DTSTART:20231105T060000
END:STANDARD
BEGIN:DAYLIGHT
TZOFFSETFROM:-0500
TZOFFSETTO:-0400
TZNAME:EDT
DTSTART:20240310T070000
END:DAYLIGHT
BEGIN:STANDARD
TZOFFSETFROM:-0400
TZOFFSETTO:-0500
TZNAME:EST
DTSTART:20241103T060000
END:STANDARD
BEGIN:DAYLIGHT
TZOFFSETFROM:-0500
TZOFFSETTO:-0400
TZNAME:EDT
DTSTART:20250309T070000
END:DAYLIGHT
BEGIN:STANDARD
TZOFFSETFROM:-0400
TZOFFSETTO:-0500
TZNAME:EST
DTSTART:20251102T060000
END:STANDARD
END:VTIMEZONE
BEGIN:VEVENT
DTSTART;TZID=America/New_York:20240628T150000
DTEND;TZID=America/New_York:20240630T150000
DTSTAMP:20260419T133824
CREATED:20240219T172932Z
LAST-MODIFIED:20240508T172316Z
UID:10000853-1719586800-1719759600@www.thelandcelebration.org
SUMMARY:Holistic Health Weekend
DESCRIPTION:Four Key Pillars for a holistic\, healthy lifestyle \n1. Movement\n2. Nutrition\n3. Stress reduction and self-awareness practices\n4. Habit forming skills \nMovement is the foundation of our retreat experience. Delve into various movement practices such as yoga\, qi gong\, calisthenics\, martial arts\, and dance. Through expert guidance and exploration\, you will discover the joy of movement and create a personalized practice that resonates with your unique needs and preferences. \nIndulge in a nutrition and cooking class where you will learn how to prepare delicious and nutritious meals\, fostering a deeper understanding of the connection between food and well-being. Empower yourself with the knowledge and skills to make conscious and healthy food choices long after you leave our retreat. \nFor details and registration click here
URL:https://www.thelandcelebration.org/event/private-event-6/
CATEGORIES:The Land Celebration
END:VEVENT
END:VCALENDAR