BEGIN:VCALENDAR
VERSION:2.0
PRODID:-//The Land Celebration | The Lord&#039;s Chapel - ECPv6.15.20//NONSGML v1.0//EN
CALSCALE:GREGORIAN
METHOD:PUBLISH
X-ORIGINAL-URL:https://www.thelandcelebration.org
X-WR-CALDESC:Events for The Land Celebration | The Lord&#039;s Chapel
REFRESH-INTERVAL;VALUE=DURATION:PT1H
X-Robots-Tag:noindex
X-PUBLISHED-TTL:PT1H
BEGIN:VTIMEZONE
TZID:America/New_York
BEGIN:DAYLIGHT
TZOFFSETFROM:-0500
TZOFFSETTO:-0400
TZNAME:EDT
DTSTART:20230312T070000
END:DAYLIGHT
BEGIN:STANDARD
TZOFFSETFROM:-0400
TZOFFSETTO:-0500
TZNAME:EST
DTSTART:20231105T060000
END:STANDARD
BEGIN:DAYLIGHT
TZOFFSETFROM:-0500
TZOFFSETTO:-0400
TZNAME:EDT
DTSTART:20240310T070000
END:DAYLIGHT
BEGIN:STANDARD
TZOFFSETFROM:-0400
TZOFFSETTO:-0500
TZNAME:EST
DTSTART:20241103T060000
END:STANDARD
BEGIN:DAYLIGHT
TZOFFSETFROM:-0500
TZOFFSETTO:-0400
TZNAME:EDT
DTSTART:20250309T070000
END:DAYLIGHT
BEGIN:STANDARD
TZOFFSETFROM:-0400
TZOFFSETTO:-0500
TZNAME:EST
DTSTART:20251102T060000
END:STANDARD
END:VTIMEZONE
BEGIN:VEVENT
DTSTART;VALUE=DATE:20240609
DTEND;VALUE=DATE:20240616
DTSTAMP:20260419T134003
CREATED:20220421T174832Z
LAST-MODIFIED:20231027T143255Z
UID:10000092-1717891200-1718495999@www.thelandcelebration.org
SUMMARY:Helen Hamilton
DESCRIPTION:This is a unique opportunity to share time deepening your awakening with Helen. This will change your life profoundly\, to experience more peace\, love and joy.\nThe schedule of daily activities includes sessions of Guided Meditations\, Qigong\, Guided Self-Inquiry\,  Silent Sittings\, Satsangs (with questions and answers) and Talks. ​\n\nFor details click here
URL:https://www.thelandcelebration.org/event/helen-hamilton/
LOCATION:The Land Celebration\, 411 Three Oaks Drive\, Gore\, VA\, 22637\, United States
CATEGORIES:The Land Celebration
GEO:39.298819;-78.365312
X-APPLE-STRUCTURED-LOCATION;VALUE=URI;X-ADDRESS=The Land Celebration 411 Three Oaks Drive Gore VA 22637 United States;X-APPLE-RADIUS=500;X-TITLE=411 Three Oaks Drive:geo:-78.365312,39.298819
END:VEVENT
END:VCALENDAR